BEGIN:VCALENDAR
VERSION:2.0
PRODID:-//WAORCA - ECPv6.15.20//NONSGML v1.0//EN
CALSCALE:GREGORIAN
METHOD:PUBLISH
X-ORIGINAL-URL:https://www.waorca.org
X-WR-CALDESC:Events for WAORCA
REFRESH-INTERVAL;VALUE=DURATION:PT1H
X-Robots-Tag:noindex
X-PUBLISHED-TTL:PT1H
BEGIN:VTIMEZONE
TZID:America/Los_Angeles
BEGIN:DAYLIGHT
TZOFFSETFROM:-0800
TZOFFSETTO:-0700
TZNAME:PDT
DTSTART:20280312T100000
END:DAYLIGHT
BEGIN:STANDARD
TZOFFSETFROM:-0700
TZOFFSETTO:-0800
TZNAME:PST
DTSTART:20281105T090000
END:STANDARD
BEGIN:DAYLIGHT
TZOFFSETFROM:-0800
TZOFFSETTO:-0700
TZNAME:PDT
DTSTART:20290311T100000
END:DAYLIGHT
BEGIN:STANDARD
TZOFFSETFROM:-0700
TZOFFSETTO:-0800
TZNAME:PST
DTSTART:20291104T090000
END:STANDARD
BEGIN:DAYLIGHT
TZOFFSETFROM:-0800
TZOFFSETTO:-0700
TZNAME:PDT
DTSTART:20300310T100000
END:DAYLIGHT
BEGIN:STANDARD
TZOFFSETFROM:-0700
TZOFFSETTO:-0800
TZNAME:PST
DTSTART:20301103T090000
END:STANDARD
END:VTIMEZONE
BEGIN:VEVENT
DTSTART;TZID=America/Los_Angeles:20290314T110000
DTEND;TZID=America/Los_Angeles:20290314T110000
DTSTAMP:20260420T071230
CREATED:20250430T052002Z
LAST-MODIFIED:20260420T112629Z
UID:10000713-1868180400-1868180400@www.waorca.org
SUMMARY:Thurston County ORC Meeting
DESCRIPTION:Thurston County ORC Meeting \n10:00 am \nOlympia City Hall\, Rm 207 \n601 4th Ave E. \nOlympia\, WA 98501 \nPOC: Rebekah Ziesemer rzieseme@ci.olympia.wa.us \n  \n 
URL:https://www.waorca.org/event/thurston-county-orc-meeting-2/2029-03-14/
LOCATION:Olympia City Hall RM 207\, 601 4th Ave E.\, 98501\, United States
END:VEVENT
BEGIN:VEVENT
DTSTART;TZID=America/Los_Angeles:20290314T130000
DTEND;TZID=America/Los_Angeles:20290314T140000
DTSTAMP:20260420T071230
CREATED:20250430T052255Z
LAST-MODIFIED:20260420T113434Z
UID:10000637-1868187600-1868191200@www.waorca.org
SUMMARY:Kitsap Local ORC Meeting
DESCRIPTION:Kitsap Local ORC Chapter Meeting  \n1:00 pm \nKitsap County Sherriff’s Office \n3951 Randall Wy. \nSilverdale\, WA \nPOC: Montague Schon smontagu@kitsap.gov
URL:https://www.waorca.org/event/king-county-orc-meeting-2/2029-03-14/
LOCATION:Kitsap County Sheriff’s Office\, 3951 Randall Wy.\, Silverdale\, WA\, 98383\, United States
END:VEVENT
BEGIN:VEVENT
DTSTART;TZID=America/Los_Angeles:20290315T110000
DTEND;TZID=America/Los_Angeles:20290315T110000
DTSTAMP:20260420T071230
CREATED:20250430T060409Z
LAST-MODIFIED:20260306T011442Z
UID:10000417-1868266800-1868266800@www.waorca.org
SUMMARY:Pierce County ORC Meeting
DESCRIPTION:Pierce County ORC Meeting   \n11:00 am \nSouth Hill Mall \nParking near Round 1 Bowling – 3500 S Meridian Suite 900\, Puyallup\, WA  98373 \nEntrance to the right of Round 1 Bowling. Continue straight to the Community Room \nPOC: Cynthia Torres cynthia.torres@stores.fredmeyer.com \nPOC: Maria McGuiness maria.mcguinness@fredmeyer.com \nPOC: Joe Laky Joseph.Laky@walmart.com
URL:https://www.waorca.org/event/pierce-county-orc-meeting-2/2029-03-15/
LOCATION:Pierce County\, 3500 S. Meridian Suite 900\, Puyallup\, WA\, 98373\, United States
END:VEVENT
BEGIN:VEVENT
DTSTART;TZID=America/Los_Angeles:20290328T110000
DTEND;TZID=America/Los_Angeles:20290328T120000
DTSTAMP:20260420T071230
CREATED:20250430T055836Z
LAST-MODIFIED:20260306T191336Z
UID:10000311-1869390000-1869393600@www.waorca.org
SUMMARY:King County ORC Meeting Bellevue Collection
DESCRIPTION:King County ORC Meeting (Bellevue Collection) \n11:00am to 12:00pm \nBellevue Collection – Collaboration Center \nBellevue\, WA 98004 \nPoint of Contact:  Carl Kleinknecht: carl.kleinknecht@kemperdc.com
URL:https://www.waorca.org/event/king-county-orc-meeting-3/2029-03-28/
LOCATION:Bellevue Collection\, 575 Bellevue Square\, Bellevue\, WA\, 98004\, United States
END:VEVENT
BEGIN:VEVENT
DTSTART;TZID=America/Los_Angeles:20290328T120000
DTEND;TZID=America/Los_Angeles:20290328T130000
DTSTAMP:20260420T071230
CREATED:20260303T182550Z
LAST-MODIFIED:20260420T113522Z
UID:10000358-1869393600-1869397200@www.waorca.org
SUMMARY:Skagit Local ORC Meeting
DESCRIPTION:Skagit Local ORC Meeting \n12:00 pm   \nBurlington Library \n820 E. Washington St. \nBurlington\, WA  98233 \nPOC/RSVP- Bob Fisher bob.f@hardwaresales.net 
URL:https://www.waorca.org/event/skagit-local-orc-meeting/2029-03-28/
LOCATION:Skagit ORC Meeting\, 820 E. Washington St.\, Burlington\, 98233\, United States
END:VEVENT
BEGIN:VEVENT
DTSTART;TZID=America/Los_Angeles:20290403T100000
DTEND;TZID=America/Los_Angeles:20290403T110000
DTSTAMP:20260420T071230
CREATED:20260420T112428Z
LAST-MODIFIED:20260420T112428Z
UID:10000596-1869904800-1869908400@www.waorca.org
SUMMARY:WA AG ORC Task Force Online Meeting
DESCRIPTION:AG Online Meeting:  \n10 am \nPOC: John D. Olsen john.olsen@wsfc.wa.gov \nZOOM meeting: See email for link.
URL:https://www.waorca.org/event/wa-ag-orc-task-force-online-meeting-2/2029-04-03/
LOCATION:Zoom Online
END:VEVENT
BEGIN:VEVENT
DTSTART;TZID=America/Los_Angeles:20290411T110000
DTEND;TZID=America/Los_Angeles:20290411T110000
DTSTAMP:20260420T071230
CREATED:20250430T052002Z
LAST-MODIFIED:20260420T112629Z
UID:10000714-1870599600-1870599600@www.waorca.org
SUMMARY:Thurston County ORC Meeting
DESCRIPTION:Thurston County ORC Meeting \n10:00 am \nOlympia City Hall\, Rm 207 \n601 4th Ave E. \nOlympia\, WA 98501 \nPOC: Rebekah Ziesemer rzieseme@ci.olympia.wa.us \n  \n 
URL:https://www.waorca.org/event/thurston-county-orc-meeting-2/2029-04-11/
LOCATION:Olympia City Hall RM 207\, 601 4th Ave E.\, 98501\, United States
END:VEVENT
BEGIN:VEVENT
DTSTART;TZID=America/Los_Angeles:20290412T130000
DTEND;TZID=America/Los_Angeles:20290412T130000
DTSTAMP:20260420T071231
CREATED:20250430T051849Z
LAST-MODIFIED:20260306T011520Z
UID:10000477-1870693200-1870693200@www.waorca.org
SUMMARY:Whatcom Local ORC Meeting
DESCRIPTION:Whatcom Local ORC Meeting    \n1:00 pm \nBellis Fair Mall Community Room\, \nBellingham\, WA 98226 \nPOC/RSVP- Bob Fisher bob.f@hardwaresales.net \nPOC: Jakib West– Jakib.west@stores.fredmeyer.com \n  
URL:https://www.waorca.org/event/whatcom-local-orc-meeting-2/2029-04-12/
LOCATION:WA
END:VEVENT
BEGIN:VEVENT
DTSTART;TZID=America/Los_Angeles:20290419T110000
DTEND;TZID=America/Los_Angeles:20290419T110000
DTSTAMP:20260420T071231
CREATED:20250430T060409Z
LAST-MODIFIED:20260306T011442Z
UID:10000418-1871290800-1871290800@www.waorca.org
SUMMARY:Pierce County ORC Meeting
DESCRIPTION:Pierce County ORC Meeting   \n11:00 am \nSouth Hill Mall \nParking near Round 1 Bowling – 3500 S Meridian Suite 900\, Puyallup\, WA  98373 \nEntrance to the right of Round 1 Bowling. Continue straight to the Community Room \nPOC: Cynthia Torres cynthia.torres@stores.fredmeyer.com \nPOC: Maria McGuiness maria.mcguinness@fredmeyer.com \nPOC: Joe Laky Joseph.Laky@walmart.com
URL:https://www.waorca.org/event/pierce-county-orc-meeting-2/2029-04-19/
LOCATION:Pierce County\, 3500 S. Meridian Suite 900\, Puyallup\, WA\, 98373\, United States
END:VEVENT
BEGIN:VEVENT
DTSTART;TZID=America/Los_Angeles:20290425T110000
DTEND;TZID=America/Los_Angeles:20290425T120000
DTSTAMP:20260420T071231
CREATED:20250411T051816Z
LAST-MODIFIED:20260420T113756Z
UID:10000759-1871809200-1871812800@www.waorca.org
SUMMARY:King County Southcenter ORC Meeting
DESCRIPTION:King County ORC Meeting   \n11:00 am \nTukwila Police Station EOC Room \n15005 Tukwila International Blvd\, Tukwila\, WA 98168 \nPOC: Robert  Mosley  R.Mosley@TukwilaWA.gov
URL:https://www.waorca.org/event/king-county-orc-meeting/2029-04-25/
LOCATION:Tukwila Police Station\, 15005 Tukwila International Blvd\, Tukwila\, 98168\, United States
END:VEVENT
BEGIN:VEVENT
DTSTART;TZID=America/Los_Angeles:20290425T120000
DTEND;TZID=America/Los_Angeles:20290425T130000
DTSTAMP:20260420T071231
CREATED:20260303T182550Z
LAST-MODIFIED:20260420T113522Z
UID:10000359-1871812800-1871816400@www.waorca.org
SUMMARY:Skagit Local ORC Meeting
DESCRIPTION:Skagit Local ORC Meeting \n12:00 pm   \nBurlington Library \n820 E. Washington St. \nBurlington\, WA  98233 \nPOC/RSVP- Bob Fisher bob.f@hardwaresales.net 
URL:https://www.waorca.org/event/skagit-local-orc-meeting/2029-04-25/
LOCATION:Skagit ORC Meeting\, 820 E. Washington St.\, Burlington\, 98233\, United States
END:VEVENT
BEGIN:VEVENT
DTSTART;TZID=America/Los_Angeles:20290501T100000
DTEND;TZID=America/Los_Angeles:20290501T110000
DTSTAMP:20260420T071231
CREATED:20260420T112428Z
LAST-MODIFIED:20260420T112428Z
UID:10000597-1872324000-1872327600@www.waorca.org
SUMMARY:WA AG ORC Task Force Online Meeting
DESCRIPTION:AG Online Meeting:  \n10 am \nPOC: John D. Olsen john.olsen@wsfc.wa.gov \nZOOM meeting: See email for link.
URL:https://www.waorca.org/event/wa-ag-orc-task-force-online-meeting-2/2029-05-01/
LOCATION:Zoom Online
END:VEVENT
BEGIN:VEVENT
DTSTART;TZID=America/Los_Angeles:20290509T110000
DTEND;TZID=America/Los_Angeles:20290509T110000
DTSTAMP:20260420T071231
CREATED:20250430T052002Z
LAST-MODIFIED:20260420T112629Z
UID:10000715-1873018800-1873018800@www.waorca.org
SUMMARY:Thurston County ORC Meeting
DESCRIPTION:Thurston County ORC Meeting \n10:00 am \nOlympia City Hall\, Rm 207 \n601 4th Ave E. \nOlympia\, WA 98501 \nPOC: Rebekah Ziesemer rzieseme@ci.olympia.wa.us \n  \n 
URL:https://www.waorca.org/event/thurston-county-orc-meeting-2/2029-05-09/
LOCATION:Olympia City Hall RM 207\, 601 4th Ave E.\, 98501\, United States
END:VEVENT
BEGIN:VEVENT
DTSTART;TZID=America/Los_Angeles:20290509T130000
DTEND;TZID=America/Los_Angeles:20290509T140000
DTSTAMP:20260420T071231
CREATED:20250430T052255Z
LAST-MODIFIED:20260420T113434Z
UID:10000638-1873026000-1873029600@www.waorca.org
SUMMARY:Kitsap Local ORC Meeting
DESCRIPTION:Kitsap Local ORC Chapter Meeting  \n1:00 pm \nKitsap County Sherriff’s Office \n3951 Randall Wy. \nSilverdale\, WA \nPOC: Montague Schon smontagu@kitsap.gov
URL:https://www.waorca.org/event/king-county-orc-meeting-2/2029-05-09/
LOCATION:Kitsap County Sheriff’s Office\, 3951 Randall Wy.\, Silverdale\, WA\, 98383\, United States
END:VEVENT
BEGIN:VEVENT
DTSTART;TZID=America/Los_Angeles:20290510T130000
DTEND;TZID=America/Los_Angeles:20290510T130000
DTSTAMP:20260420T071231
CREATED:20250430T051849Z
LAST-MODIFIED:20260306T011520Z
UID:10000478-1873112400-1873112400@www.waorca.org
SUMMARY:Whatcom Local ORC Meeting
DESCRIPTION:Whatcom Local ORC Meeting    \n1:00 pm \nBellis Fair Mall Community Room\, \nBellingham\, WA 98226 \nPOC/RSVP- Bob Fisher bob.f@hardwaresales.net \nPOC: Jakib West– Jakib.west@stores.fredmeyer.com \n  
URL:https://www.waorca.org/event/whatcom-local-orc-meeting-2/2029-05-10/
LOCATION:WA
END:VEVENT
BEGIN:VEVENT
DTSTART;TZID=America/Los_Angeles:20290517T110000
DTEND;TZID=America/Los_Angeles:20290517T110000
DTSTAMP:20260420T071231
CREATED:20250430T060409Z
LAST-MODIFIED:20260306T011442Z
UID:10000419-1873710000-1873710000@www.waorca.org
SUMMARY:Pierce County ORC Meeting
DESCRIPTION:Pierce County ORC Meeting   \n11:00 am \nSouth Hill Mall \nParking near Round 1 Bowling – 3500 S Meridian Suite 900\, Puyallup\, WA  98373 \nEntrance to the right of Round 1 Bowling. Continue straight to the Community Room \nPOC: Cynthia Torres cynthia.torres@stores.fredmeyer.com \nPOC: Maria McGuiness maria.mcguinness@fredmeyer.com \nPOC: Joe Laky Joseph.Laky@walmart.com
URL:https://www.waorca.org/event/pierce-county-orc-meeting-2/2029-05-17/
LOCATION:Pierce County\, 3500 S. Meridian Suite 900\, Puyallup\, WA\, 98373\, United States
END:VEVENT
BEGIN:VEVENT
DTSTART;TZID=America/Los_Angeles:20290523T110000
DTEND;TZID=America/Los_Angeles:20290523T120000
DTSTAMP:20260420T071231
CREATED:20250430T055836Z
LAST-MODIFIED:20260306T191336Z
UID:10000312-1874228400-1874232000@www.waorca.org
SUMMARY:King County ORC Meeting Bellevue Collection
DESCRIPTION:King County ORC Meeting (Bellevue Collection) \n11:00am to 12:00pm \nBellevue Collection – Collaboration Center \nBellevue\, WA 98004 \nPoint of Contact:  Carl Kleinknecht: carl.kleinknecht@kemperdc.com
URL:https://www.waorca.org/event/king-county-orc-meeting-3/2029-05-23/
LOCATION:Bellevue Collection\, 575 Bellevue Square\, Bellevue\, WA\, 98004\, United States
END:VEVENT
BEGIN:VEVENT
DTSTART;TZID=America/Los_Angeles:20290530T120000
DTEND;TZID=America/Los_Angeles:20290530T130000
DTSTAMP:20260420T071231
CREATED:20260303T182550Z
LAST-MODIFIED:20260420T113522Z
UID:10000667-1874836800-1874840400@www.waorca.org
SUMMARY:Skagit Local ORC Meeting
DESCRIPTION:Skagit Local ORC Meeting \n12:00 pm   \nBurlington Library \n820 E. Washington St. \nBurlington\, WA  98233 \nPOC/RSVP- Bob Fisher bob.f@hardwaresales.net 
URL:https://www.waorca.org/event/skagit-local-orc-meeting/2029-05-30/
LOCATION:Skagit ORC Meeting\, 820 E. Washington St.\, Burlington\, 98233\, United States
END:VEVENT
BEGIN:VEVENT
DTSTART;TZID=America/Los_Angeles:20290605T100000
DTEND;TZID=America/Los_Angeles:20290605T110000
DTSTAMP:20260420T071231
CREATED:20260420T112428Z
LAST-MODIFIED:20260420T112428Z
UID:10000598-1875348000-1875351600@www.waorca.org
SUMMARY:WA AG ORC Task Force Online Meeting
DESCRIPTION:AG Online Meeting:  \n10 am \nPOC: John D. Olsen john.olsen@wsfc.wa.gov \nZOOM meeting: See email for link.
URL:https://www.waorca.org/event/wa-ag-orc-task-force-online-meeting-2/2029-06-05/
LOCATION:Zoom Online
END:VEVENT
BEGIN:VEVENT
DTSTART;TZID=America/Los_Angeles:20290613T110000
DTEND;TZID=America/Los_Angeles:20290613T110000
DTSTAMP:20260420T071231
CREATED:20250430T052002Z
LAST-MODIFIED:20260420T112629Z
UID:10000716-1876042800-1876042800@www.waorca.org
SUMMARY:Thurston County ORC Meeting
DESCRIPTION:Thurston County ORC Meeting \n10:00 am \nOlympia City Hall\, Rm 207 \n601 4th Ave E. \nOlympia\, WA 98501 \nPOC: Rebekah Ziesemer rzieseme@ci.olympia.wa.us \n  \n 
URL:https://www.waorca.org/event/thurston-county-orc-meeting-2/2029-06-13/
LOCATION:Olympia City Hall RM 207\, 601 4th Ave E.\, 98501\, United States
END:VEVENT
BEGIN:VEVENT
DTSTART;TZID=America/Los_Angeles:20290614T130000
DTEND;TZID=America/Los_Angeles:20290614T130000
DTSTAMP:20260420T071231
CREATED:20250430T051849Z
LAST-MODIFIED:20260306T011520Z
UID:10000479-1876136400-1876136400@www.waorca.org
SUMMARY:Whatcom Local ORC Meeting
DESCRIPTION:Whatcom Local ORC Meeting    \n1:00 pm \nBellis Fair Mall Community Room\, \nBellingham\, WA 98226 \nPOC/RSVP- Bob Fisher bob.f@hardwaresales.net \nPOC: Jakib West– Jakib.west@stores.fredmeyer.com \n  
URL:https://www.waorca.org/event/whatcom-local-orc-meeting-2/2029-06-14/
LOCATION:WA
END:VEVENT
BEGIN:VEVENT
DTSTART;TZID=America/Los_Angeles:20290621T110000
DTEND;TZID=America/Los_Angeles:20290621T110000
DTSTAMP:20260420T071231
CREATED:20250430T060409Z
LAST-MODIFIED:20260306T011442Z
UID:10000420-1876734000-1876734000@www.waorca.org
SUMMARY:Pierce County ORC Meeting
DESCRIPTION:Pierce County ORC Meeting   \n11:00 am \nSouth Hill Mall \nParking near Round 1 Bowling – 3500 S Meridian Suite 900\, Puyallup\, WA  98373 \nEntrance to the right of Round 1 Bowling. Continue straight to the Community Room \nPOC: Cynthia Torres cynthia.torres@stores.fredmeyer.com \nPOC: Maria McGuiness maria.mcguinness@fredmeyer.com \nPOC: Joe Laky Joseph.Laky@walmart.com
URL:https://www.waorca.org/event/pierce-county-orc-meeting-2/2029-06-21/
LOCATION:Pierce County\, 3500 S. Meridian Suite 900\, Puyallup\, WA\, 98373\, United States
END:VEVENT
BEGIN:VEVENT
DTSTART;TZID=America/Los_Angeles:20290627T110000
DTEND;TZID=America/Los_Angeles:20290627T120000
DTSTAMP:20260420T071231
CREATED:20250411T051816Z
LAST-MODIFIED:20260420T113756Z
UID:10000760-1877252400-1877256000@www.waorca.org
SUMMARY:King County Southcenter ORC Meeting
DESCRIPTION:King County ORC Meeting   \n11:00 am \nTukwila Police Station EOC Room \n15005 Tukwila International Blvd\, Tukwila\, WA 98168 \nPOC: Robert  Mosley  R.Mosley@TukwilaWA.gov
URL:https://www.waorca.org/event/king-county-orc-meeting/2029-06-27/
LOCATION:Tukwila Police Station\, 15005 Tukwila International Blvd\, Tukwila\, 98168\, United States
END:VEVENT
BEGIN:VEVENT
DTSTART;TZID=America/Los_Angeles:20290627T120000
DTEND;TZID=America/Los_Angeles:20290627T130000
DTSTAMP:20260420T071231
CREATED:20260303T182550Z
LAST-MODIFIED:20260420T113522Z
UID:10000361-1877256000-1877259600@www.waorca.org
SUMMARY:Skagit Local ORC Meeting
DESCRIPTION:Skagit Local ORC Meeting \n12:00 pm   \nBurlington Library \n820 E. Washington St. \nBurlington\, WA  98233 \nPOC/RSVP- Bob Fisher bob.f@hardwaresales.net 
URL:https://www.waorca.org/event/skagit-local-orc-meeting/2029-06-27/
LOCATION:Skagit ORC Meeting\, 820 E. Washington St.\, Burlington\, 98233\, United States
END:VEVENT
BEGIN:VEVENT
DTSTART;TZID=America/Los_Angeles:20290703T100000
DTEND;TZID=America/Los_Angeles:20290703T110000
DTSTAMP:20260420T071231
CREATED:20260420T112428Z
LAST-MODIFIED:20260420T112428Z
UID:10000599-1877767200-1877770800@www.waorca.org
SUMMARY:WA AG ORC Task Force Online Meeting
DESCRIPTION:AG Online Meeting:  \n10 am \nPOC: John D. Olsen john.olsen@wsfc.wa.gov \nZOOM meeting: See email for link.
URL:https://www.waorca.org/event/wa-ag-orc-task-force-online-meeting-2/2029-07-03/
LOCATION:Zoom Online
END:VEVENT
BEGIN:VEVENT
DTSTART;TZID=America/Los_Angeles:20290711T110000
DTEND;TZID=America/Los_Angeles:20290711T110000
DTSTAMP:20260420T071231
CREATED:20250430T052002Z
LAST-MODIFIED:20260420T112629Z
UID:10000717-1878462000-1878462000@www.waorca.org
SUMMARY:Thurston County ORC Meeting
DESCRIPTION:Thurston County ORC Meeting \n10:00 am \nOlympia City Hall\, Rm 207 \n601 4th Ave E. \nOlympia\, WA 98501 \nPOC: Rebekah Ziesemer rzieseme@ci.olympia.wa.us \n  \n 
URL:https://www.waorca.org/event/thurston-county-orc-meeting-2/2029-07-11/
LOCATION:Olympia City Hall RM 207\, 601 4th Ave E.\, 98501\, United States
END:VEVENT
BEGIN:VEVENT
DTSTART;TZID=America/Los_Angeles:20290711T130000
DTEND;TZID=America/Los_Angeles:20290711T140000
DTSTAMP:20260420T071231
CREATED:20250430T052255Z
LAST-MODIFIED:20260420T113434Z
UID:10000639-1878469200-1878472800@www.waorca.org
SUMMARY:Kitsap Local ORC Meeting
DESCRIPTION:Kitsap Local ORC Chapter Meeting  \n1:00 pm \nKitsap County Sherriff’s Office \n3951 Randall Wy. \nSilverdale\, WA \nPOC: Montague Schon smontagu@kitsap.gov
URL:https://www.waorca.org/event/king-county-orc-meeting-2/2029-07-11/
LOCATION:Kitsap County Sheriff’s Office\, 3951 Randall Wy.\, Silverdale\, WA\, 98383\, United States
END:VEVENT
BEGIN:VEVENT
DTSTART;TZID=America/Los_Angeles:20290712T130000
DTEND;TZID=America/Los_Angeles:20290712T130000
DTSTAMP:20260420T071231
CREATED:20250430T051849Z
LAST-MODIFIED:20260306T011520Z
UID:10000480-1878555600-1878555600@www.waorca.org
SUMMARY:Whatcom Local ORC Meeting
DESCRIPTION:Whatcom Local ORC Meeting    \n1:00 pm \nBellis Fair Mall Community Room\, \nBellingham\, WA 98226 \nPOC/RSVP- Bob Fisher bob.f@hardwaresales.net \nPOC: Jakib West– Jakib.west@stores.fredmeyer.com \n  
URL:https://www.waorca.org/event/whatcom-local-orc-meeting-2/2029-07-12/
LOCATION:WA
END:VEVENT
BEGIN:VEVENT
DTSTART;TZID=America/Los_Angeles:20290719T110000
DTEND;TZID=America/Los_Angeles:20290719T110000
DTSTAMP:20260420T071231
CREATED:20250430T060409Z
LAST-MODIFIED:20260306T011442Z
UID:10000421-1879153200-1879153200@www.waorca.org
SUMMARY:Pierce County ORC Meeting
DESCRIPTION:Pierce County ORC Meeting   \n11:00 am \nSouth Hill Mall \nParking near Round 1 Bowling – 3500 S Meridian Suite 900\, Puyallup\, WA  98373 \nEntrance to the right of Round 1 Bowling. Continue straight to the Community Room \nPOC: Cynthia Torres cynthia.torres@stores.fredmeyer.com \nPOC: Maria McGuiness maria.mcguinness@fredmeyer.com \nPOC: Joe Laky Joseph.Laky@walmart.com
URL:https://www.waorca.org/event/pierce-county-orc-meeting-2/2029-07-19/
LOCATION:Pierce County\, 3500 S. Meridian Suite 900\, Puyallup\, WA\, 98373\, United States
END:VEVENT
BEGIN:VEVENT
DTSTART;TZID=America/Los_Angeles:20290725T110000
DTEND;TZID=America/Los_Angeles:20290725T120000
DTSTAMP:20260420T071231
CREATED:20250430T055836Z
LAST-MODIFIED:20260306T191336Z
UID:10000313-1879671600-1879675200@www.waorca.org
SUMMARY:King County ORC Meeting Bellevue Collection
DESCRIPTION:King County ORC Meeting (Bellevue Collection) \n11:00am to 12:00pm \nBellevue Collection – Collaboration Center \nBellevue\, WA 98004 \nPoint of Contact:  Carl Kleinknecht: carl.kleinknecht@kemperdc.com
URL:https://www.waorca.org/event/king-county-orc-meeting-3/2029-07-25/
LOCATION:Bellevue Collection\, 575 Bellevue Square\, Bellevue\, WA\, 98004\, United States
END:VEVENT
END:VCALENDAR