BEGIN:VCALENDAR
VERSION:2.0
PRODID:-//WAORCA - ECPv6.15.20//NONSGML v1.0//EN
CALSCALE:GREGORIAN
METHOD:PUBLISH
X-WR-CALNAME:WAORCA
X-ORIGINAL-URL:https://www.waorca.org
X-WR-CALDESC:Events for WAORCA
REFRESH-INTERVAL;VALUE=DURATION:PT1H
X-Robots-Tag:noindex
X-PUBLISHED-TTL:PT1H
BEGIN:VTIMEZONE
TZID:America/Los_Angeles
BEGIN:DAYLIGHT
TZOFFSETFROM:-0800
TZOFFSETTO:-0700
TZNAME:PDT
DTSTART:20250309T100000
END:DAYLIGHT
BEGIN:STANDARD
TZOFFSETFROM:-0700
TZOFFSETTO:-0800
TZNAME:PST
DTSTART:20251102T090000
END:STANDARD
BEGIN:DAYLIGHT
TZOFFSETFROM:-0800
TZOFFSETTO:-0700
TZNAME:PDT
DTSTART:20260308T100000
END:DAYLIGHT
BEGIN:STANDARD
TZOFFSETFROM:-0700
TZOFFSETTO:-0800
TZNAME:PST
DTSTART:20261101T090000
END:STANDARD
BEGIN:DAYLIGHT
TZOFFSETFROM:-0800
TZOFFSETTO:-0700
TZNAME:PDT
DTSTART:20270314T100000
END:DAYLIGHT
BEGIN:STANDARD
TZOFFSETFROM:-0700
TZOFFSETTO:-0800
TZNAME:PST
DTSTART:20271107T090000
END:STANDARD
END:VTIMEZONE
BEGIN:VEVENT
DTSTART;TZID=America/Los_Angeles:20260610T110000
DTEND;TZID=America/Los_Angeles:20260610T110000
DTSTAMP:20260420T173246
CREATED:20250430T052002Z
LAST-MODIFIED:20260420T112629Z
UID:10000680-1781089200-1781089200@www.waorca.org
SUMMARY:Thurston County ORC Meeting
DESCRIPTION:Thurston County ORC Meeting \n10:00 am \nOlympia City Hall\, Rm 207 \n601 4th Ave E. \nOlympia\, WA 98501 \nPOC: Rebekah Ziesemer rzieseme@ci.olympia.wa.us \n  \n 
URL:https://www.waorca.org/event/thurston-county-orc-meeting-2/2026-06-10/
LOCATION:Olympia City Hall RM 207\, 601 4th Ave E.\, 98501\, United States
END:VEVENT
BEGIN:VEVENT
DTSTART;TZID=America/Los_Angeles:20260611T130000
DTEND;TZID=America/Los_Angeles:20260611T130000
DTSTAMP:20260420T173246
CREATED:20250430T051849Z
LAST-MODIFIED:20260306T011520Z
UID:10000443-1781182800-1781182800@www.waorca.org
SUMMARY:Whatcom Local ORC Meeting
DESCRIPTION:Whatcom Local ORC Meeting    \n1:00 pm \nBellis Fair Mall Community Room\, \nBellingham\, WA 98226 \nPOC/RSVP- Bob Fisher bob.f@hardwaresales.net \nPOC: Jakib West– Jakib.west@stores.fredmeyer.com \n  
URL:https://www.waorca.org/event/whatcom-local-orc-meeting-2/2026-06-11/
END:VEVENT
BEGIN:VEVENT
DTSTART;TZID=America/Los_Angeles:20260618T110000
DTEND;TZID=America/Los_Angeles:20260618T110000
DTSTAMP:20260420T173246
CREATED:20250430T060409Z
LAST-MODIFIED:20260306T011442Z
UID:10000384-1781780400-1781780400@www.waorca.org
SUMMARY:Pierce County ORC Meeting
DESCRIPTION:Pierce County ORC Meeting   \n11:00 am \nSouth Hill Mall \nParking near Round 1 Bowling – 3500 S Meridian Suite 900\, Puyallup\, WA  98373 \nEntrance to the right of Round 1 Bowling. Continue straight to the Community Room \nPOC: Cynthia Torres cynthia.torres@stores.fredmeyer.com \nPOC: Maria McGuiness maria.mcguinness@fredmeyer.com \nPOC: Joe Laky Joseph.Laky@walmart.com
URL:https://www.waorca.org/event/pierce-county-orc-meeting-2/2026-06-18/
LOCATION:Pierce County\, 3500 S. Meridian Suite 900\, Puyallup\, WA\, 98373\, United States
END:VEVENT
BEGIN:VEVENT
DTSTART;TZID=America/Los_Angeles:20260624T110000
DTEND;TZID=America/Los_Angeles:20260624T120000
DTSTAMP:20260420T173246
CREATED:20250411T051816Z
LAST-MODIFIED:20260420T113756Z
UID:10000742-1782298800-1782302400@www.waorca.org
SUMMARY:King County Southcenter ORC Meeting
DESCRIPTION:King County ORC Meeting   \n11:00 am \nTukwila Police Station EOC Room \n15005 Tukwila International Blvd\, Tukwila\, WA 98168 \nPOC: Robert  Mosley  R.Mosley@TukwilaWA.gov
URL:https://www.waorca.org/event/king-county-orc-meeting/2026-06-24/
LOCATION:Tukwila Police Station\, 15005 Tukwila International Blvd\, Tukwila\, 98168\, United States
END:VEVENT
BEGIN:VEVENT
DTSTART;TZID=America/Los_Angeles:20260624T120000
DTEND;TZID=America/Los_Angeles:20260624T130000
DTSTAMP:20260420T173246
CREATED:20260303T182550Z
LAST-MODIFIED:20260420T113522Z
UID:10000325-1782302400-1782306000@www.waorca.org
SUMMARY:Skagit Local ORC Meeting
DESCRIPTION:Skagit Local ORC Meeting \n12:00 pm   \nBurlington Library \n820 E. Washington St. \nBurlington\, WA  98233 \nPOC/RSVP- Bob Fisher bob.f@hardwaresales.net 
URL:https://www.waorca.org/event/skagit-local-orc-meeting/2026-06-24/
LOCATION:Skagit ORC Meeting\, 820 E. Washington St.\, Burlington\, 98233\, United States
END:VEVENT
BEGIN:VEVENT
DTSTART;TZID=America/Los_Angeles:20260707T100000
DTEND;TZID=America/Los_Angeles:20260707T110000
DTSTAMP:20260420T173246
CREATED:20260420T112428Z
LAST-MODIFIED:20260420T112428Z
UID:10000563-1783418400-1783422000@www.waorca.org
SUMMARY:WA AG ORC Task Force Online Meeting
DESCRIPTION:AG Online Meeting:  \n10 am \nPOC: John D. Olsen john.olsen@wsfc.wa.gov \nZOOM meeting: See email for link.
URL:https://www.waorca.org/event/wa-ag-orc-task-force-online-meeting-2/2026-07-07/
LOCATION:Zoom Online
END:VEVENT
BEGIN:VEVENT
DTSTART;TZID=America/Los_Angeles:20260708T110000
DTEND;TZID=America/Los_Angeles:20260708T110000
DTSTAMP:20260420T173246
CREATED:20250430T052002Z
LAST-MODIFIED:20260420T112629Z
UID:10000681-1783508400-1783508400@www.waorca.org
SUMMARY:Thurston County ORC Meeting
DESCRIPTION:Thurston County ORC Meeting \n10:00 am \nOlympia City Hall\, Rm 207 \n601 4th Ave E. \nOlympia\, WA 98501 \nPOC: Rebekah Ziesemer rzieseme@ci.olympia.wa.us \n  \n 
URL:https://www.waorca.org/event/thurston-county-orc-meeting-2/2026-07-08/
LOCATION:Olympia City Hall RM 207\, 601 4th Ave E.\, 98501\, United States
END:VEVENT
BEGIN:VEVENT
DTSTART;TZID=America/Los_Angeles:20260708T130000
DTEND;TZID=America/Los_Angeles:20260708T140000
DTSTAMP:20260420T173246
CREATED:20250430T052255Z
LAST-MODIFIED:20260420T113434Z
UID:10000621-1783515600-1783519200@www.waorca.org
SUMMARY:Kitsap Local ORC Meeting
DESCRIPTION:Kitsap Local ORC Chapter Meeting  \n1:00 pm \nKitsap County Sherriff’s Office \n3951 Randall Wy. \nSilverdale\, WA \nPOC: Montague Schon smontagu@kitsap.gov
URL:https://www.waorca.org/event/king-county-orc-meeting-2/2026-07-08/
LOCATION:Kitsap County Sheriff’s Office\, 3951 Randall Wy.\, Silverdale\, WA\, 98383\, United States
END:VEVENT
BEGIN:VEVENT
DTSTART;TZID=America/Los_Angeles:20260709T130000
DTEND;TZID=America/Los_Angeles:20260709T130000
DTSTAMP:20260420T173246
CREATED:20250430T051849Z
LAST-MODIFIED:20260306T011520Z
UID:10000444-1783602000-1783602000@www.waorca.org
SUMMARY:Whatcom Local ORC Meeting
DESCRIPTION:Whatcom Local ORC Meeting    \n1:00 pm \nBellis Fair Mall Community Room\, \nBellingham\, WA 98226 \nPOC/RSVP- Bob Fisher bob.f@hardwaresales.net \nPOC: Jakib West– Jakib.west@stores.fredmeyer.com \n  
URL:https://www.waorca.org/event/whatcom-local-orc-meeting-2/2026-07-09/
END:VEVENT
BEGIN:VEVENT
DTSTART;TZID=America/Los_Angeles:20260716T110000
DTEND;TZID=America/Los_Angeles:20260716T110000
DTSTAMP:20260420T173246
CREATED:20250430T060409Z
LAST-MODIFIED:20260306T011442Z
UID:10000385-1784199600-1784199600@www.waorca.org
SUMMARY:Pierce County ORC Meeting
DESCRIPTION:Pierce County ORC Meeting   \n11:00 am \nSouth Hill Mall \nParking near Round 1 Bowling – 3500 S Meridian Suite 900\, Puyallup\, WA  98373 \nEntrance to the right of Round 1 Bowling. Continue straight to the Community Room \nPOC: Cynthia Torres cynthia.torres@stores.fredmeyer.com \nPOC: Maria McGuiness maria.mcguinness@fredmeyer.com \nPOC: Joe Laky Joseph.Laky@walmart.com
URL:https://www.waorca.org/event/pierce-county-orc-meeting-2/2026-07-16/
LOCATION:Pierce County\, 3500 S. Meridian Suite 900\, Puyallup\, WA\, 98373\, United States
END:VEVENT
BEGIN:VEVENT
DTSTART;TZID=America/Los_Angeles:20260722T110000
DTEND;TZID=America/Los_Angeles:20260722T120000
DTSTAMP:20260420T173246
CREATED:20250430T055836Z
LAST-MODIFIED:20260306T191336Z
UID:10000295-1784718000-1784721600@www.waorca.org
SUMMARY:King County ORC Meeting Bellevue Collection
DESCRIPTION:King County ORC Meeting (Bellevue Collection) \n11:00am to 12:00pm \nBellevue Collection – Collaboration Center \nBellevue\, WA 98004 \nPoint of Contact:  Carl Kleinknecht: carl.kleinknecht@kemperdc.com
URL:https://www.waorca.org/event/king-county-orc-meeting-3/2026-07-22/
LOCATION:Bellevue Collection\, 575 Bellevue Square\, Bellevue\, WA\, 98004\, United States
END:VEVENT
BEGIN:VEVENT
DTSTART;TZID=America/Los_Angeles:20260729T120000
DTEND;TZID=America/Los_Angeles:20260729T130000
DTSTAMP:20260420T173246
CREATED:20260303T182550Z
LAST-MODIFIED:20260420T113522Z
UID:10000655-1785326400-1785330000@www.waorca.org
SUMMARY:Skagit Local ORC Meeting
DESCRIPTION:Skagit Local ORC Meeting \n12:00 pm   \nBurlington Library \n820 E. Washington St. \nBurlington\, WA  98233 \nPOC/RSVP- Bob Fisher bob.f@hardwaresales.net 
URL:https://www.waorca.org/event/skagit-local-orc-meeting/2026-07-29/
LOCATION:Skagit ORC Meeting\, 820 E. Washington St.\, Burlington\, 98233\, United States
END:VEVENT
BEGIN:VEVENT
DTSTART;TZID=America/Los_Angeles:20260804T100000
DTEND;TZID=America/Los_Angeles:20260804T110000
DTSTAMP:20260420T173246
CREATED:20260420T112428Z
LAST-MODIFIED:20260420T112428Z
UID:10000564-1785837600-1785841200@www.waorca.org
SUMMARY:WA AG ORC Task Force Online Meeting
DESCRIPTION:AG Online Meeting:  \n10 am \nPOC: John D. Olsen john.olsen@wsfc.wa.gov \nZOOM meeting: See email for link.
URL:https://www.waorca.org/event/wa-ag-orc-task-force-online-meeting-2/2026-08-04/
LOCATION:Zoom Online
END:VEVENT
BEGIN:VEVENT
DTSTART;TZID=America/Los_Angeles:20260805T110000
DTEND;TZID=America/Los_Angeles:20260805T120000
DTSTAMP:20260420T173246
CREATED:20250430T055305Z
LAST-MODIFIED:20260420T154643Z
UID:10000739-1785927600-1785931200@www.waorca.org
SUMMARY:Snohomish County Meeting
DESCRIPTION:Snohomish County ORC Meeting \n06/03/2026 @ 11:00am (Wednesday) \nLynnwood Police Department \n19321 44th Ave W. \nLynnwood\, WA. 98036 \nPOC: Devin Sanders Devin.sanders01@store.lowes.com \nPOC: Patty Crawford Patty.Crawford@catalystbrands.com
URL:https://www.waorca.org/event/snohomish-county-meeting/2026-08-05/
LOCATION:Lynnwood Police Dept.\, 19321 44th Ave W.\, Lynnwood\, WA\, 98037\, United States
END:VEVENT
BEGIN:VEVENT
DTSTART;TZID=America/Los_Angeles:20260812T110000
DTEND;TZID=America/Los_Angeles:20260812T110000
DTSTAMP:20260420T173246
CREATED:20250430T052002Z
LAST-MODIFIED:20260420T112629Z
UID:10000682-1786532400-1786532400@www.waorca.org
SUMMARY:Thurston County ORC Meeting
DESCRIPTION:Thurston County ORC Meeting \n10:00 am \nOlympia City Hall\, Rm 207 \n601 4th Ave E. \nOlympia\, WA 98501 \nPOC: Rebekah Ziesemer rzieseme@ci.olympia.wa.us \n  \n 
URL:https://www.waorca.org/event/thurston-county-orc-meeting-2/2026-08-12/
LOCATION:Olympia City Hall RM 207\, 601 4th Ave E.\, 98501\, United States
END:VEVENT
BEGIN:VEVENT
DTSTART;TZID=America/Los_Angeles:20260813T130000
DTEND;TZID=America/Los_Angeles:20260813T130000
DTSTAMP:20260420T173246
CREATED:20250430T051849Z
LAST-MODIFIED:20260306T011520Z
UID:10000445-1786626000-1786626000@www.waorca.org
SUMMARY:Whatcom Local ORC Meeting
DESCRIPTION:Whatcom Local ORC Meeting    \n1:00 pm \nBellis Fair Mall Community Room\, \nBellingham\, WA 98226 \nPOC/RSVP- Bob Fisher bob.f@hardwaresales.net \nPOC: Jakib West– Jakib.west@stores.fredmeyer.com \n  
URL:https://www.waorca.org/event/whatcom-local-orc-meeting-2/2026-08-13/
END:VEVENT
BEGIN:VEVENT
DTSTART;TZID=America/Los_Angeles:20260818T110000
DTEND;TZID=America/Los_Angeles:20260818T130000
DTSTAMP:20260420T173246
CREATED:20260324T215202Z
LAST-MODIFIED:20260420T153723Z
UID:10000650-1787050800-1787058000@www.waorca.org
SUMMARY:Spokane Area Meeting
DESCRIPTION:Spokane Area Meeting: \n08/18/2026 @11:00 am-1:00 pm \nCenter Place Regional Event Center Auditorium \n2426 N. Discovery Place \nSpokane Valley\, WA 99216 \n  \nPOC: Rachel Bratsch rachel.bratsch@lowes.com \nPOC: Christina Cervantes christina.cervantes@albertsons.com \nPOC: Sgt. Keith Gonsalves kgonsalves@spokanepolice.org \n 
URL:https://www.waorca.org/event/spokane-area-meeting-2/
LOCATION:Center Place Regional Event Center  Auditorium\, 2426 N. Discovery Place\, Spokane Valley\, WA\, 99216\, United States
END:VEVENT
BEGIN:VEVENT
DTSTART;TZID=America/Los_Angeles:20260820T110000
DTEND;TZID=America/Los_Angeles:20260820T110000
DTSTAMP:20260420T173246
CREATED:20250430T060409Z
LAST-MODIFIED:20260306T011442Z
UID:10000386-1787223600-1787223600@www.waorca.org
SUMMARY:Pierce County ORC Meeting
DESCRIPTION:Pierce County ORC Meeting   \n11:00 am \nSouth Hill Mall \nParking near Round 1 Bowling – 3500 S Meridian Suite 900\, Puyallup\, WA  98373 \nEntrance to the right of Round 1 Bowling. Continue straight to the Community Room \nPOC: Cynthia Torres cynthia.torres@stores.fredmeyer.com \nPOC: Maria McGuiness maria.mcguinness@fredmeyer.com \nPOC: Joe Laky Joseph.Laky@walmart.com
URL:https://www.waorca.org/event/pierce-county-orc-meeting-2/2026-08-20/
LOCATION:Pierce County\, 3500 S. Meridian Suite 900\, Puyallup\, WA\, 98373\, United States
END:VEVENT
BEGIN:VEVENT
DTSTART;TZID=America/Los_Angeles:20260826T110000
DTEND;TZID=America/Los_Angeles:20260826T120000
DTSTAMP:20260420T173246
CREATED:20250411T051816Z
LAST-MODIFIED:20260420T113756Z
UID:10000743-1787742000-1787745600@www.waorca.org
SUMMARY:King County Southcenter ORC Meeting
DESCRIPTION:King County ORC Meeting   \n11:00 am \nTukwila Police Station EOC Room \n15005 Tukwila International Blvd\, Tukwila\, WA 98168 \nPOC: Robert  Mosley  R.Mosley@TukwilaWA.gov
URL:https://www.waorca.org/event/king-county-orc-meeting/2026-08-26/
LOCATION:Tukwila Police Station\, 15005 Tukwila International Blvd\, Tukwila\, 98168\, United States
END:VEVENT
BEGIN:VEVENT
DTSTART;TZID=America/Los_Angeles:20260826T120000
DTEND;TZID=America/Los_Angeles:20260826T130000
DTSTAMP:20260420T173246
CREATED:20260303T182550Z
LAST-MODIFIED:20260420T113522Z
UID:10000327-1787745600-1787749200@www.waorca.org
SUMMARY:Skagit Local ORC Meeting
DESCRIPTION:Skagit Local ORC Meeting \n12:00 pm   \nBurlington Library \n820 E. Washington St. \nBurlington\, WA  98233 \nPOC/RSVP- Bob Fisher bob.f@hardwaresales.net 
URL:https://www.waorca.org/event/skagit-local-orc-meeting/2026-08-26/
LOCATION:Skagit ORC Meeting\, 820 E. Washington St.\, Burlington\, 98233\, United States
END:VEVENT
BEGIN:VEVENT
DTSTART;TZID=America/Los_Angeles:20260901T100000
DTEND;TZID=America/Los_Angeles:20260901T110000
DTSTAMP:20260420T173246
CREATED:20260420T112428Z
LAST-MODIFIED:20260420T112428Z
UID:10000565-1788256800-1788260400@www.waorca.org
SUMMARY:WA AG ORC Task Force Online Meeting
DESCRIPTION:AG Online Meeting:  \n10 am \nPOC: John D. Olsen john.olsen@wsfc.wa.gov \nZOOM meeting: See email for link.
URL:https://www.waorca.org/event/wa-ag-orc-task-force-online-meeting-2/2026-09-01/
LOCATION:Zoom Online
END:VEVENT
BEGIN:VEVENT
DTSTART;TZID=America/Los_Angeles:20260909T110000
DTEND;TZID=America/Los_Angeles:20260909T110000
DTSTAMP:20260420T173246
CREATED:20250430T052002Z
LAST-MODIFIED:20260420T112629Z
UID:10000683-1788951600-1788951600@www.waorca.org
SUMMARY:Thurston County ORC Meeting
DESCRIPTION:Thurston County ORC Meeting \n10:00 am \nOlympia City Hall\, Rm 207 \n601 4th Ave E. \nOlympia\, WA 98501 \nPOC: Rebekah Ziesemer rzieseme@ci.olympia.wa.us \n  \n 
URL:https://www.waorca.org/event/thurston-county-orc-meeting-2/2026-09-09/
LOCATION:Olympia City Hall RM 207\, 601 4th Ave E.\, 98501\, United States
END:VEVENT
BEGIN:VEVENT
DTSTART;TZID=America/Los_Angeles:20260909T130000
DTEND;TZID=America/Los_Angeles:20260909T140000
DTSTAMP:20260420T173246
CREATED:20250430T052255Z
LAST-MODIFIED:20260420T113434Z
UID:10000622-1788958800-1788962400@www.waorca.org
SUMMARY:Kitsap Local ORC Meeting
DESCRIPTION:Kitsap Local ORC Chapter Meeting  \n1:00 pm \nKitsap County Sherriff’s Office \n3951 Randall Wy. \nSilverdale\, WA \nPOC: Montague Schon smontagu@kitsap.gov
URL:https://www.waorca.org/event/king-county-orc-meeting-2/2026-09-09/
LOCATION:Kitsap County Sheriff’s Office\, 3951 Randall Wy.\, Silverdale\, WA\, 98383\, United States
END:VEVENT
BEGIN:VEVENT
DTSTART;TZID=America/Los_Angeles:20260910T130000
DTEND;TZID=America/Los_Angeles:20260910T130000
DTSTAMP:20260420T173246
CREATED:20250430T051849Z
LAST-MODIFIED:20260306T011520Z
UID:10000446-1789045200-1789045200@www.waorca.org
SUMMARY:Whatcom Local ORC Meeting
DESCRIPTION:Whatcom Local ORC Meeting    \n1:00 pm \nBellis Fair Mall Community Room\, \nBellingham\, WA 98226 \nPOC/RSVP- Bob Fisher bob.f@hardwaresales.net \nPOC: Jakib West– Jakib.west@stores.fredmeyer.com \n  
URL:https://www.waorca.org/event/whatcom-local-orc-meeting-2/2026-09-10/
END:VEVENT
BEGIN:VEVENT
DTSTART;TZID=America/Los_Angeles:20260917T110000
DTEND;TZID=America/Los_Angeles:20260917T110000
DTSTAMP:20260420T173246
CREATED:20250430T060409Z
LAST-MODIFIED:20260306T011442Z
UID:10000387-1789642800-1789642800@www.waorca.org
SUMMARY:Pierce County ORC Meeting
DESCRIPTION:Pierce County ORC Meeting   \n11:00 am \nSouth Hill Mall \nParking near Round 1 Bowling – 3500 S Meridian Suite 900\, Puyallup\, WA  98373 \nEntrance to the right of Round 1 Bowling. Continue straight to the Community Room \nPOC: Cynthia Torres cynthia.torres@stores.fredmeyer.com \nPOC: Maria McGuiness maria.mcguinness@fredmeyer.com \nPOC: Joe Laky Joseph.Laky@walmart.com
URL:https://www.waorca.org/event/pierce-county-orc-meeting-2/2026-09-17/
LOCATION:Pierce County\, 3500 S. Meridian Suite 900\, Puyallup\, WA\, 98373\, United States
END:VEVENT
BEGIN:VEVENT
DTSTART;TZID=America/Los_Angeles:20260923T110000
DTEND;TZID=America/Los_Angeles:20260923T120000
DTSTAMP:20260420T173246
CREATED:20250430T055836Z
LAST-MODIFIED:20260306T191336Z
UID:10000296-1790161200-1790164800@www.waorca.org
SUMMARY:King County ORC Meeting Bellevue Collection
DESCRIPTION:King County ORC Meeting (Bellevue Collection) \n11:00am to 12:00pm \nBellevue Collection – Collaboration Center \nBellevue\, WA 98004 \nPoint of Contact:  Carl Kleinknecht: carl.kleinknecht@kemperdc.com
URL:https://www.waorca.org/event/king-county-orc-meeting-3/2026-09-23/
LOCATION:Bellevue Collection\, 575 Bellevue Square\, Bellevue\, WA\, 98004\, United States
END:VEVENT
BEGIN:VEVENT
DTSTART;TZID=America/Los_Angeles:20260930T120000
DTEND;TZID=America/Los_Angeles:20260930T130000
DTSTAMP:20260420T173246
CREATED:20260303T182550Z
LAST-MODIFIED:20260420T113522Z
UID:10000656-1790769600-1790773200@www.waorca.org
SUMMARY:Skagit Local ORC Meeting
DESCRIPTION:Skagit Local ORC Meeting \n12:00 pm   \nBurlington Library \n820 E. Washington St. \nBurlington\, WA  98233 \nPOC/RSVP- Bob Fisher bob.f@hardwaresales.net 
URL:https://www.waorca.org/event/skagit-local-orc-meeting/2026-09-30/
LOCATION:Skagit ORC Meeting\, 820 E. Washington St.\, Burlington\, 98233\, United States
END:VEVENT
BEGIN:VEVENT
DTSTART;TZID=America/Los_Angeles:20261006T100000
DTEND;TZID=America/Los_Angeles:20261006T110000
DTSTAMP:20260420T173246
CREATED:20260420T112428Z
LAST-MODIFIED:20260420T112428Z
UID:10000566-1791280800-1791284400@www.waorca.org
SUMMARY:WA AG ORC Task Force Online Meeting
DESCRIPTION:AG Online Meeting:  \n10 am \nPOC: John D. Olsen john.olsen@wsfc.wa.gov \nZOOM meeting: See email for link.
URL:https://www.waorca.org/event/wa-ag-orc-task-force-online-meeting-2/2026-10-06/
LOCATION:Zoom Online
END:VEVENT
BEGIN:VEVENT
DTSTART;TZID=America/Los_Angeles:20261007T110000
DTEND;TZID=America/Los_Angeles:20261007T120000
DTSTAMP:20260420T173246
CREATED:20250430T055305Z
LAST-MODIFIED:20260420T154643Z
UID:10000740-1791370800-1791374400@www.waorca.org
SUMMARY:Snohomish County Meeting
DESCRIPTION:Snohomish County ORC Meeting \n06/03/2026 @ 11:00am (Wednesday) \nLynnwood Police Department \n19321 44th Ave W. \nLynnwood\, WA. 98036 \nPOC: Devin Sanders Devin.sanders01@store.lowes.com \nPOC: Patty Crawford Patty.Crawford@catalystbrands.com
URL:https://www.waorca.org/event/snohomish-county-meeting/2026-10-07/
LOCATION:Lynnwood Police Dept.\, 19321 44th Ave W.\, Lynnwood\, WA\, 98037\, United States
END:VEVENT
BEGIN:VEVENT
DTSTART;TZID=America/Los_Angeles:20261008T130000
DTEND;TZID=America/Los_Angeles:20261008T130000
DTSTAMP:20260420T173246
CREATED:20250430T051849Z
LAST-MODIFIED:20260306T011520Z
UID:10000447-1791464400-1791464400@www.waorca.org
SUMMARY:Whatcom Local ORC Meeting
DESCRIPTION:Whatcom Local ORC Meeting    \n1:00 pm \nBellis Fair Mall Community Room\, \nBellingham\, WA 98226 \nPOC/RSVP- Bob Fisher bob.f@hardwaresales.net \nPOC: Jakib West– Jakib.west@stores.fredmeyer.com \n  
URL:https://www.waorca.org/event/whatcom-local-orc-meeting-2/2026-10-08/
END:VEVENT
END:VCALENDAR