BEGIN:VCALENDAR
VERSION:2.0
PRODID:-//WAORCA - ECPv6.15.20//NONSGML v1.0//EN
CALSCALE:GREGORIAN
METHOD:PUBLISH
X-ORIGINAL-URL:https://www.waorca.org
X-WR-CALDESC:Events for WAORCA
REFRESH-INTERVAL;VALUE=DURATION:PT1H
X-Robots-Tag:noindex
X-PUBLISHED-TTL:PT1H
BEGIN:VTIMEZONE
TZID:America/Los_Angeles
BEGIN:DAYLIGHT
TZOFFSETFROM:-0800
TZOFFSETTO:-0700
TZNAME:PDT
DTSTART:20290311T100000
END:DAYLIGHT
BEGIN:STANDARD
TZOFFSETFROM:-0700
TZOFFSETTO:-0800
TZNAME:PST
DTSTART:20291104T090000
END:STANDARD
BEGIN:DAYLIGHT
TZOFFSETFROM:-0800
TZOFFSETTO:-0700
TZNAME:PDT
DTSTART:20300310T100000
END:DAYLIGHT
BEGIN:STANDARD
TZOFFSETFROM:-0700
TZOFFSETTO:-0800
TZNAME:PST
DTSTART:20301103T090000
END:STANDARD
BEGIN:DAYLIGHT
TZOFFSETFROM:-0800
TZOFFSETTO:-0700
TZNAME:PDT
DTSTART:20310309T100000
END:DAYLIGHT
BEGIN:STANDARD
TZOFFSETFROM:-0700
TZOFFSETTO:-0800
TZNAME:PST
DTSTART:20311102T090000
END:STANDARD
END:VTIMEZONE
BEGIN:VEVENT
DTSTART;TZID=America/Los_Angeles:20300221T110000
DTEND;TZID=America/Los_Angeles:20300221T110000
DTSTAMP:20260420T211454
CREATED:20250430T060409Z
LAST-MODIFIED:20260306T011442Z
UID:10000428-1897902000-1897902000@www.waorca.org
SUMMARY:Pierce County ORC Meeting
DESCRIPTION:Pierce County ORC Meeting   \n11:00 am \nSouth Hill Mall \nParking near Round 1 Bowling – 3500 S Meridian Suite 900\, Puyallup\, WA  98373 \nEntrance to the right of Round 1 Bowling. Continue straight to the Community Room \nPOC: Cynthia Torres cynthia.torres@stores.fredmeyer.com \nPOC: Maria McGuiness maria.mcguinness@fredmeyer.com \nPOC: Joe Laky Joseph.Laky@walmart.com
URL:https://www.waorca.org/event/pierce-county-orc-meeting-2/2030-02-21/
LOCATION:Pierce County\, 3500 S. Meridian Suite 900\, Puyallup\, WA\, 98373\, United States
END:VEVENT
BEGIN:VEVENT
DTSTART;TZID=America/Los_Angeles:20300227T110000
DTEND;TZID=America/Los_Angeles:20300227T120000
DTSTAMP:20260420T211454
CREATED:20250411T051816Z
LAST-MODIFIED:20260420T113756Z
UID:10000764-1898420400-1898424000@www.waorca.org
SUMMARY:King County Southcenter ORC Meeting
DESCRIPTION:King County ORC Meeting   \n11:00 am \nTukwila Police Station EOC Room \n15005 Tukwila International Blvd\, Tukwila\, WA 98168 \nPOC: Robert  Mosley  R.Mosley@TukwilaWA.gov
URL:https://www.waorca.org/event/king-county-orc-meeting/2030-02-27/
LOCATION:Tukwila Police Station\, 15005 Tukwila International Blvd\, Tukwila\, 98168\, United States
END:VEVENT
BEGIN:VEVENT
DTSTART;TZID=America/Los_Angeles:20300227T120000
DTEND;TZID=America/Los_Angeles:20300227T130000
DTSTAMP:20260420T211454
CREATED:20260303T182550Z
LAST-MODIFIED:20260420T113522Z
UID:10000369-1898424000-1898427600@www.waorca.org
SUMMARY:Skagit Local ORC Meeting
DESCRIPTION:Skagit Local ORC Meeting \n12:00 pm   \nBurlington Library \n820 E. Washington St. \nBurlington\, WA  98233 \nPOC/RSVP- Bob Fisher bob.f@hardwaresales.net 
URL:https://www.waorca.org/event/skagit-local-orc-meeting/2030-02-27/
LOCATION:Skagit ORC Meeting\, 820 E. Washington St.\, Burlington\, 98233\, United States
END:VEVENT
BEGIN:VEVENT
DTSTART;TZID=America/Los_Angeles:20300305T100000
DTEND;TZID=America/Los_Angeles:20300305T110000
DTSTAMP:20260420T211454
CREATED:20260420T112428Z
LAST-MODIFIED:20260420T112428Z
UID:10000607-1898935200-1898938800@www.waorca.org
SUMMARY:WA AG ORC Task Force Online Meeting
DESCRIPTION:AG Online Meeting:  \n10 am \nPOC: John D. Olsen john.olsen@wsfc.wa.gov \nZOOM meeting: See email for link.
URL:https://www.waorca.org/event/wa-ag-orc-task-force-online-meeting-2/2030-03-05/
LOCATION:Zoom Online
END:VEVENT
BEGIN:VEVENT
DTSTART;TZID=America/Los_Angeles:20300313T110000
DTEND;TZID=America/Los_Angeles:20300313T110000
DTSTAMP:20260420T211454
CREATED:20250430T052002Z
LAST-MODIFIED:20260420T112629Z
UID:10000725-1899630000-1899630000@www.waorca.org
SUMMARY:Thurston County ORC Meeting
DESCRIPTION:Thurston County ORC Meeting \n10:00 am \nOlympia City Hall\, Rm 207 \n601 4th Ave E. \nOlympia\, WA 98501 \nPOC: Rebekah Ziesemer rzieseme@ci.olympia.wa.us \n  \n 
URL:https://www.waorca.org/event/thurston-county-orc-meeting-2/2030-03-13/
LOCATION:Olympia City Hall RM 207\, 601 4th Ave E.\, 98501\, United States
END:VEVENT
BEGIN:VEVENT
DTSTART;TZID=America/Los_Angeles:20300313T130000
DTEND;TZID=America/Los_Angeles:20300313T140000
DTSTAMP:20260420T211454
CREATED:20250430T052255Z
LAST-MODIFIED:20260420T113434Z
UID:10000643-1899637200-1899640800@www.waorca.org
SUMMARY:Kitsap Local ORC Meeting
DESCRIPTION:Kitsap Local ORC Chapter Meeting  \n1:00 pm \nKitsap County Sherriff’s Office \n3951 Randall Wy. \nSilverdale\, WA \nPOC: Montague Schon smontagu@kitsap.gov
URL:https://www.waorca.org/event/king-county-orc-meeting-2/2030-03-13/
LOCATION:Kitsap County Sheriff’s Office\, 3951 Randall Wy.\, Silverdale\, WA\, 98383\, United States
END:VEVENT
BEGIN:VEVENT
DTSTART;TZID=America/Los_Angeles:20300314T130000
DTEND;TZID=America/Los_Angeles:20300314T130000
DTSTAMP:20260420T211454
CREATED:20250430T051849Z
LAST-MODIFIED:20260306T011520Z
UID:10000488-1899723600-1899723600@www.waorca.org
SUMMARY:Whatcom Local ORC Meeting
DESCRIPTION:Whatcom Local ORC Meeting    \n1:00 pm \nBellis Fair Mall Community Room\, \nBellingham\, WA 98226 \nPOC/RSVP- Bob Fisher bob.f@hardwaresales.net \nPOC: Jakib West– Jakib.west@stores.fredmeyer.com \n  
URL:https://www.waorca.org/event/whatcom-local-orc-meeting-2/2030-03-14/
END:VEVENT
BEGIN:VEVENT
DTSTART;TZID=America/Los_Angeles:20300321T110000
DTEND;TZID=America/Los_Angeles:20300321T110000
DTSTAMP:20260420T211454
CREATED:20250430T060409Z
LAST-MODIFIED:20260306T011442Z
UID:10000429-1900321200-1900321200@www.waorca.org
SUMMARY:Pierce County ORC Meeting
DESCRIPTION:Pierce County ORC Meeting   \n11:00 am \nSouth Hill Mall \nParking near Round 1 Bowling – 3500 S Meridian Suite 900\, Puyallup\, WA  98373 \nEntrance to the right of Round 1 Bowling. Continue straight to the Community Room \nPOC: Cynthia Torres cynthia.torres@stores.fredmeyer.com \nPOC: Maria McGuiness maria.mcguinness@fredmeyer.com \nPOC: Joe Laky Joseph.Laky@walmart.com
URL:https://www.waorca.org/event/pierce-county-orc-meeting-2/2030-03-21/
LOCATION:Pierce County\, 3500 S. Meridian Suite 900\, Puyallup\, WA\, 98373\, United States
END:VEVENT
BEGIN:VEVENT
DTSTART;TZID=America/Los_Angeles:20300327T110000
DTEND;TZID=America/Los_Angeles:20300327T120000
DTSTAMP:20260420T211454
CREATED:20250430T055836Z
LAST-MODIFIED:20260306T191336Z
UID:10000317-1900839600-1900843200@www.waorca.org
SUMMARY:King County ORC Meeting Bellevue Collection
DESCRIPTION:King County ORC Meeting (Bellevue Collection) \n11:00am to 12:00pm \nBellevue Collection – Collaboration Center \nBellevue\, WA 98004 \nPoint of Contact:  Carl Kleinknecht: carl.kleinknecht@kemperdc.com
URL:https://www.waorca.org/event/king-county-orc-meeting-3/2030-03-27/
LOCATION:Bellevue Collection\, 575 Bellevue Square\, Bellevue\, WA\, 98004\, United States
END:VEVENT
BEGIN:VEVENT
DTSTART;TZID=America/Los_Angeles:20300327T120000
DTEND;TZID=America/Los_Angeles:20300327T130000
DTSTAMP:20260420T211454
CREATED:20260303T182550Z
LAST-MODIFIED:20260420T113522Z
UID:10000370-1900843200-1900846800@www.waorca.org
SUMMARY:Skagit Local ORC Meeting
DESCRIPTION:Skagit Local ORC Meeting \n12:00 pm   \nBurlington Library \n820 E. Washington St. \nBurlington\, WA  98233 \nPOC/RSVP- Bob Fisher bob.f@hardwaresales.net 
URL:https://www.waorca.org/event/skagit-local-orc-meeting/2030-03-27/
LOCATION:Skagit ORC Meeting\, 820 E. Washington St.\, Burlington\, 98233\, United States
END:VEVENT
BEGIN:VEVENT
DTSTART;TZID=America/Los_Angeles:20300402T100000
DTEND;TZID=America/Los_Angeles:20300402T110000
DTSTAMP:20260420T211454
CREATED:20260420T112428Z
LAST-MODIFIED:20260420T112428Z
UID:10000608-1901354400-1901358000@www.waorca.org
SUMMARY:WA AG ORC Task Force Online Meeting
DESCRIPTION:AG Online Meeting:  \n10 am \nPOC: John D. Olsen john.olsen@wsfc.wa.gov \nZOOM meeting: See email for link.
URL:https://www.waorca.org/event/wa-ag-orc-task-force-online-meeting-2/2030-04-02/
LOCATION:Zoom Online
END:VEVENT
BEGIN:VEVENT
DTSTART;TZID=America/Los_Angeles:20300410T110000
DTEND;TZID=America/Los_Angeles:20300410T110000
DTSTAMP:20260420T211454
CREATED:20250430T052002Z
LAST-MODIFIED:20260420T112629Z
UID:10000726-1902049200-1902049200@www.waorca.org
SUMMARY:Thurston County ORC Meeting
DESCRIPTION:Thurston County ORC Meeting \n10:00 am \nOlympia City Hall\, Rm 207 \n601 4th Ave E. \nOlympia\, WA 98501 \nPOC: Rebekah Ziesemer rzieseme@ci.olympia.wa.us \n  \n 
URL:https://www.waorca.org/event/thurston-county-orc-meeting-2/2030-04-10/
LOCATION:Olympia City Hall RM 207\, 601 4th Ave E.\, 98501\, United States
END:VEVENT
BEGIN:VEVENT
DTSTART;TZID=America/Los_Angeles:20300411T130000
DTEND;TZID=America/Los_Angeles:20300411T130000
DTSTAMP:20260420T211454
CREATED:20250430T051849Z
LAST-MODIFIED:20260306T011520Z
UID:10000489-1902142800-1902142800@www.waorca.org
SUMMARY:Whatcom Local ORC Meeting
DESCRIPTION:Whatcom Local ORC Meeting    \n1:00 pm \nBellis Fair Mall Community Room\, \nBellingham\, WA 98226 \nPOC/RSVP- Bob Fisher bob.f@hardwaresales.net \nPOC: Jakib West– Jakib.west@stores.fredmeyer.com \n  
URL:https://www.waorca.org/event/whatcom-local-orc-meeting-2/2030-04-11/
END:VEVENT
BEGIN:VEVENT
DTSTART;TZID=America/Los_Angeles:20300418T110000
DTEND;TZID=America/Los_Angeles:20300418T110000
DTSTAMP:20260420T211454
CREATED:20250430T060409Z
LAST-MODIFIED:20260306T011442Z
UID:10000430-1902740400-1902740400@www.waorca.org
SUMMARY:Pierce County ORC Meeting
DESCRIPTION:Pierce County ORC Meeting   \n11:00 am \nSouth Hill Mall \nParking near Round 1 Bowling – 3500 S Meridian Suite 900\, Puyallup\, WA  98373 \nEntrance to the right of Round 1 Bowling. Continue straight to the Community Room \nPOC: Cynthia Torres cynthia.torres@stores.fredmeyer.com \nPOC: Maria McGuiness maria.mcguinness@fredmeyer.com \nPOC: Joe Laky Joseph.Laky@walmart.com
URL:https://www.waorca.org/event/pierce-county-orc-meeting-2/2030-04-18/
LOCATION:Pierce County\, 3500 S. Meridian Suite 900\, Puyallup\, WA\, 98373\, United States
END:VEVENT
BEGIN:VEVENT
DTSTART;TZID=America/Los_Angeles:20300424T110000
DTEND;TZID=America/Los_Angeles:20300424T120000
DTSTAMP:20260420T211454
CREATED:20250411T051816Z
LAST-MODIFIED:20260420T113756Z
UID:10000765-1903258800-1903262400@www.waorca.org
SUMMARY:King County Southcenter ORC Meeting
DESCRIPTION:King County ORC Meeting   \n11:00 am \nTukwila Police Station EOC Room \n15005 Tukwila International Blvd\, Tukwila\, WA 98168 \nPOC: Robert  Mosley  R.Mosley@TukwilaWA.gov
URL:https://www.waorca.org/event/king-county-orc-meeting/2030-04-24/
LOCATION:Tukwila Police Station\, 15005 Tukwila International Blvd\, Tukwila\, 98168\, United States
END:VEVENT
BEGIN:VEVENT
DTSTART;TZID=America/Los_Angeles:20300424T120000
DTEND;TZID=America/Los_Angeles:20300424T130000
DTSTAMP:20260420T211454
CREATED:20260303T182550Z
LAST-MODIFIED:20260420T113522Z
UID:10000371-1903262400-1903266000@www.waorca.org
SUMMARY:Skagit Local ORC Meeting
DESCRIPTION:Skagit Local ORC Meeting \n12:00 pm   \nBurlington Library \n820 E. Washington St. \nBurlington\, WA  98233 \nPOC/RSVP- Bob Fisher bob.f@hardwaresales.net 
URL:https://www.waorca.org/event/skagit-local-orc-meeting/2030-04-24/
LOCATION:Skagit ORC Meeting\, 820 E. Washington St.\, Burlington\, 98233\, United States
END:VEVENT
BEGIN:VEVENT
DTSTART;TZID=America/Los_Angeles:20300507T100000
DTEND;TZID=America/Los_Angeles:20300507T110000
DTSTAMP:20260420T211454
CREATED:20260420T112428Z
LAST-MODIFIED:20260420T112428Z
UID:10000609-1904378400-1904382000@www.waorca.org
SUMMARY:WA AG ORC Task Force Online Meeting
DESCRIPTION:AG Online Meeting:  \n10 am \nPOC: John D. Olsen john.olsen@wsfc.wa.gov \nZOOM meeting: See email for link.
URL:https://www.waorca.org/event/wa-ag-orc-task-force-online-meeting-2/2030-05-07/
LOCATION:Zoom Online
END:VEVENT
BEGIN:VEVENT
DTSTART;TZID=America/Los_Angeles:20300508T110000
DTEND;TZID=America/Los_Angeles:20300508T110000
DTSTAMP:20260420T211454
CREATED:20250430T052002Z
LAST-MODIFIED:20260420T112629Z
UID:10000727-1904468400-1904468400@www.waorca.org
SUMMARY:Thurston County ORC Meeting
DESCRIPTION:Thurston County ORC Meeting \n10:00 am \nOlympia City Hall\, Rm 207 \n601 4th Ave E. \nOlympia\, WA 98501 \nPOC: Rebekah Ziesemer rzieseme@ci.olympia.wa.us \n  \n 
URL:https://www.waorca.org/event/thurston-county-orc-meeting-2/2030-05-08/
LOCATION:Olympia City Hall RM 207\, 601 4th Ave E.\, 98501\, United States
END:VEVENT
BEGIN:VEVENT
DTSTART;TZID=America/Los_Angeles:20300508T130000
DTEND;TZID=America/Los_Angeles:20300508T140000
DTSTAMP:20260420T211454
CREATED:20250430T052255Z
LAST-MODIFIED:20260420T113434Z
UID:10000644-1904475600-1904479200@www.waorca.org
SUMMARY:Kitsap Local ORC Meeting
DESCRIPTION:Kitsap Local ORC Chapter Meeting  \n1:00 pm \nKitsap County Sherriff’s Office \n3951 Randall Wy. \nSilverdale\, WA \nPOC: Montague Schon smontagu@kitsap.gov
URL:https://www.waorca.org/event/king-county-orc-meeting-2/2030-05-08/
LOCATION:Kitsap County Sheriff’s Office\, 3951 Randall Wy.\, Silverdale\, WA\, 98383\, United States
END:VEVENT
BEGIN:VEVENT
DTSTART;TZID=America/Los_Angeles:20300509T130000
DTEND;TZID=America/Los_Angeles:20300509T130000
DTSTAMP:20260420T211454
CREATED:20250430T051849Z
LAST-MODIFIED:20260306T011520Z
UID:10000490-1904562000-1904562000@www.waorca.org
SUMMARY:Whatcom Local ORC Meeting
DESCRIPTION:Whatcom Local ORC Meeting    \n1:00 pm \nBellis Fair Mall Community Room\, \nBellingham\, WA 98226 \nPOC/RSVP- Bob Fisher bob.f@hardwaresales.net \nPOC: Jakib West– Jakib.west@stores.fredmeyer.com \n  
URL:https://www.waorca.org/event/whatcom-local-orc-meeting-2/2030-05-09/
END:VEVENT
BEGIN:VEVENT
DTSTART;TZID=America/Los_Angeles:20300516T110000
DTEND;TZID=America/Los_Angeles:20300516T110000
DTSTAMP:20260420T211454
CREATED:20250430T060409Z
LAST-MODIFIED:20260306T011442Z
UID:10000431-1905159600-1905159600@www.waorca.org
SUMMARY:Pierce County ORC Meeting
DESCRIPTION:Pierce County ORC Meeting   \n11:00 am \nSouth Hill Mall \nParking near Round 1 Bowling – 3500 S Meridian Suite 900\, Puyallup\, WA  98373 \nEntrance to the right of Round 1 Bowling. Continue straight to the Community Room \nPOC: Cynthia Torres cynthia.torres@stores.fredmeyer.com \nPOC: Maria McGuiness maria.mcguinness@fredmeyer.com \nPOC: Joe Laky Joseph.Laky@walmart.com
URL:https://www.waorca.org/event/pierce-county-orc-meeting-2/2030-05-16/
LOCATION:Pierce County\, 3500 S. Meridian Suite 900\, Puyallup\, WA\, 98373\, United States
END:VEVENT
BEGIN:VEVENT
DTSTART;TZID=America/Los_Angeles:20300522T110000
DTEND;TZID=America/Los_Angeles:20300522T120000
DTSTAMP:20260420T211454
CREATED:20250430T055836Z
LAST-MODIFIED:20260306T191336Z
UID:10000318-1905678000-1905681600@www.waorca.org
SUMMARY:King County ORC Meeting Bellevue Collection
DESCRIPTION:King County ORC Meeting (Bellevue Collection) \n11:00am to 12:00pm \nBellevue Collection – Collaboration Center \nBellevue\, WA 98004 \nPoint of Contact:  Carl Kleinknecht: carl.kleinknecht@kemperdc.com
URL:https://www.waorca.org/event/king-county-orc-meeting-3/2030-05-22/
LOCATION:Bellevue Collection\, 575 Bellevue Square\, Bellevue\, WA\, 98004\, United States
END:VEVENT
BEGIN:VEVENT
DTSTART;TZID=America/Los_Angeles:20300529T120000
DTEND;TZID=America/Los_Angeles:20300529T130000
DTSTAMP:20260420T211454
CREATED:20260303T182550Z
LAST-MODIFIED:20260420T113522Z
UID:10000671-1906286400-1906290000@www.waorca.org
SUMMARY:Skagit Local ORC Meeting
DESCRIPTION:Skagit Local ORC Meeting \n12:00 pm   \nBurlington Library \n820 E. Washington St. \nBurlington\, WA  98233 \nPOC/RSVP- Bob Fisher bob.f@hardwaresales.net 
URL:https://www.waorca.org/event/skagit-local-orc-meeting/2030-05-29/
LOCATION:Skagit ORC Meeting\, 820 E. Washington St.\, Burlington\, 98233\, United States
END:VEVENT
BEGIN:VEVENT
DTSTART;TZID=America/Los_Angeles:20300604T100000
DTEND;TZID=America/Los_Angeles:20300604T110000
DTSTAMP:20260420T211454
CREATED:20260420T112428Z
LAST-MODIFIED:20260420T112428Z
UID:10000610-1906797600-1906801200@www.waorca.org
SUMMARY:WA AG ORC Task Force Online Meeting
DESCRIPTION:AG Online Meeting:  \n10 am \nPOC: John D. Olsen john.olsen@wsfc.wa.gov \nZOOM meeting: See email for link.
URL:https://www.waorca.org/event/wa-ag-orc-task-force-online-meeting-2/2030-06-04/
LOCATION:Zoom Online
END:VEVENT
BEGIN:VEVENT
DTSTART;TZID=America/Los_Angeles:20300612T110000
DTEND;TZID=America/Los_Angeles:20300612T110000
DTSTAMP:20260420T211454
CREATED:20250430T052002Z
LAST-MODIFIED:20260420T112629Z
UID:10000728-1907492400-1907492400@www.waorca.org
SUMMARY:Thurston County ORC Meeting
DESCRIPTION:Thurston County ORC Meeting \n10:00 am \nOlympia City Hall\, Rm 207 \n601 4th Ave E. \nOlympia\, WA 98501 \nPOC: Rebekah Ziesemer rzieseme@ci.olympia.wa.us \n  \n 
URL:https://www.waorca.org/event/thurston-county-orc-meeting-2/2030-06-12/
LOCATION:Olympia City Hall RM 207\, 601 4th Ave E.\, 98501\, United States
END:VEVENT
BEGIN:VEVENT
DTSTART;TZID=America/Los_Angeles:20300613T130000
DTEND;TZID=America/Los_Angeles:20300613T130000
DTSTAMP:20260420T211454
CREATED:20250430T051849Z
LAST-MODIFIED:20260306T011520Z
UID:10000491-1907586000-1907586000@www.waorca.org
SUMMARY:Whatcom Local ORC Meeting
DESCRIPTION:Whatcom Local ORC Meeting    \n1:00 pm \nBellis Fair Mall Community Room\, \nBellingham\, WA 98226 \nPOC/RSVP- Bob Fisher bob.f@hardwaresales.net \nPOC: Jakib West– Jakib.west@stores.fredmeyer.com \n  
URL:https://www.waorca.org/event/whatcom-local-orc-meeting-2/2030-06-13/
END:VEVENT
BEGIN:VEVENT
DTSTART;TZID=America/Los_Angeles:20300620T110000
DTEND;TZID=America/Los_Angeles:20300620T110000
DTSTAMP:20260420T211454
CREATED:20250430T060409Z
LAST-MODIFIED:20260306T011442Z
UID:10000432-1908183600-1908183600@www.waorca.org
SUMMARY:Pierce County ORC Meeting
DESCRIPTION:Pierce County ORC Meeting   \n11:00 am \nSouth Hill Mall \nParking near Round 1 Bowling – 3500 S Meridian Suite 900\, Puyallup\, WA  98373 \nEntrance to the right of Round 1 Bowling. Continue straight to the Community Room \nPOC: Cynthia Torres cynthia.torres@stores.fredmeyer.com \nPOC: Maria McGuiness maria.mcguinness@fredmeyer.com \nPOC: Joe Laky Joseph.Laky@walmart.com
URL:https://www.waorca.org/event/pierce-county-orc-meeting-2/2030-06-20/
LOCATION:Pierce County\, 3500 S. Meridian Suite 900\, Puyallup\, WA\, 98373\, United States
END:VEVENT
BEGIN:VEVENT
DTSTART;TZID=America/Los_Angeles:20300626T110000
DTEND;TZID=America/Los_Angeles:20300626T120000
DTSTAMP:20260420T211454
CREATED:20250411T051816Z
LAST-MODIFIED:20260420T113756Z
UID:10000766-1908702000-1908705600@www.waorca.org
SUMMARY:King County Southcenter ORC Meeting
DESCRIPTION:King County ORC Meeting   \n11:00 am \nTukwila Police Station EOC Room \n15005 Tukwila International Blvd\, Tukwila\, WA 98168 \nPOC: Robert  Mosley  R.Mosley@TukwilaWA.gov
URL:https://www.waorca.org/event/king-county-orc-meeting/2030-06-26/
LOCATION:Tukwila Police Station\, 15005 Tukwila International Blvd\, Tukwila\, 98168\, United States
END:VEVENT
BEGIN:VEVENT
DTSTART;TZID=America/Los_Angeles:20300626T120000
DTEND;TZID=America/Los_Angeles:20300626T130000
DTSTAMP:20260420T211454
CREATED:20260303T182550Z
LAST-MODIFIED:20260420T113522Z
UID:10000373-1908705600-1908709200@www.waorca.org
SUMMARY:Skagit Local ORC Meeting
DESCRIPTION:Skagit Local ORC Meeting \n12:00 pm   \nBurlington Library \n820 E. Washington St. \nBurlington\, WA  98233 \nPOC/RSVP- Bob Fisher bob.f@hardwaresales.net 
URL:https://www.waorca.org/event/skagit-local-orc-meeting/2030-06-26/
LOCATION:Skagit ORC Meeting\, 820 E. Washington St.\, Burlington\, 98233\, United States
END:VEVENT
BEGIN:VEVENT
DTSTART;TZID=America/Los_Angeles:20300702T100000
DTEND;TZID=America/Los_Angeles:20300702T110000
DTSTAMP:20260420T211454
CREATED:20260420T112428Z
LAST-MODIFIED:20260420T112428Z
UID:10000611-1909216800-1909220400@www.waorca.org
SUMMARY:WA AG ORC Task Force Online Meeting
DESCRIPTION:AG Online Meeting:  \n10 am \nPOC: John D. Olsen john.olsen@wsfc.wa.gov \nZOOM meeting: See email for link.
URL:https://www.waorca.org/event/wa-ag-orc-task-force-online-meeting-2/2030-07-02/
LOCATION:Zoom Online
END:VEVENT
END:VCALENDAR