BEGIN:VCALENDAR
VERSION:2.0
PRODID:-//WAORCA - ECPv6.15.20//NONSGML v1.0//EN
CALSCALE:GREGORIAN
METHOD:PUBLISH
X-ORIGINAL-URL:https://www.waorca.org
X-WR-CALDESC:Events for WAORCA
REFRESH-INTERVAL;VALUE=DURATION:PT1H
X-Robots-Tag:noindex
X-PUBLISHED-TTL:PT1H
BEGIN:VTIMEZONE
TZID:America/Los_Angeles
BEGIN:DAYLIGHT
TZOFFSETFROM:-0800
TZOFFSETTO:-0700
TZNAME:PDT
DTSTART:20290311T100000
END:DAYLIGHT
BEGIN:STANDARD
TZOFFSETFROM:-0700
TZOFFSETTO:-0800
TZNAME:PST
DTSTART:20291104T090000
END:STANDARD
BEGIN:DAYLIGHT
TZOFFSETFROM:-0800
TZOFFSETTO:-0700
TZNAME:PDT
DTSTART:20300310T100000
END:DAYLIGHT
BEGIN:STANDARD
TZOFFSETFROM:-0700
TZOFFSETTO:-0800
TZNAME:PST
DTSTART:20301103T090000
END:STANDARD
BEGIN:DAYLIGHT
TZOFFSETFROM:-0800
TZOFFSETTO:-0700
TZNAME:PDT
DTSTART:20310309T100000
END:DAYLIGHT
BEGIN:STANDARD
TZOFFSETFROM:-0700
TZOFFSETTO:-0800
TZNAME:PST
DTSTART:20311102T090000
END:STANDARD
END:VTIMEZONE
BEGIN:VEVENT
DTSTART;TZID=America/Los_Angeles:20300731T120000
DTEND;TZID=America/Los_Angeles:20300731T130000
DTSTAMP:20260420T173209
CREATED:20260303T182550Z
LAST-MODIFIED:20260420T113522Z
UID:10000672-1911729600-1911733200@www.waorca.org
SUMMARY:Skagit Local ORC Meeting
DESCRIPTION:Skagit Local ORC Meeting \n12:00 pm   \nBurlington Library \n820 E. Washington St. \nBurlington\, WA  98233 \nPOC/RSVP- Bob Fisher bob.f@hardwaresales.net 
URL:https://www.waorca.org/event/skagit-local-orc-meeting/2030-07-31/
LOCATION:Skagit ORC Meeting\, 820 E. Washington St.\, Burlington\, 98233\, United States
END:VEVENT
BEGIN:VEVENT
DTSTART;TZID=America/Los_Angeles:20300806T100000
DTEND;TZID=America/Los_Angeles:20300806T110000
DTSTAMP:20260420T173209
CREATED:20260420T112428Z
LAST-MODIFIED:20260420T112428Z
UID:10000612-1912240800-1912244400@www.waorca.org
SUMMARY:WA AG ORC Task Force Online Meeting
DESCRIPTION:AG Online Meeting:  \n10 am \nPOC: John D. Olsen john.olsen@wsfc.wa.gov \nZOOM meeting: See email for link.
URL:https://www.waorca.org/event/wa-ag-orc-task-force-online-meeting-2/2030-08-06/
LOCATION:Zoom Online
END:VEVENT
BEGIN:VEVENT
DTSTART;TZID=America/Los_Angeles:20300808T130000
DTEND;TZID=America/Los_Angeles:20300808T130000
DTSTAMP:20260420T173209
CREATED:20250430T051849Z
LAST-MODIFIED:20260306T011520Z
UID:10000493-1912424400-1912424400@www.waorca.org
SUMMARY:Whatcom Local ORC Meeting
DESCRIPTION:Whatcom Local ORC Meeting    \n1:00 pm \nBellis Fair Mall Community Room\, \nBellingham\, WA 98226 \nPOC/RSVP- Bob Fisher bob.f@hardwaresales.net \nPOC: Jakib West– Jakib.west@stores.fredmeyer.com \n  
URL:https://www.waorca.org/event/whatcom-local-orc-meeting-2/2030-08-08/
END:VEVENT
BEGIN:VEVENT
DTSTART;TZID=America/Los_Angeles:20300814T110000
DTEND;TZID=America/Los_Angeles:20300814T110000
DTSTAMP:20260420T173209
CREATED:20250430T052002Z
LAST-MODIFIED:20260420T112629Z
UID:10000730-1912935600-1912935600@www.waorca.org
SUMMARY:Thurston County ORC Meeting
DESCRIPTION:Thurston County ORC Meeting \n10:00 am \nOlympia City Hall\, Rm 207 \n601 4th Ave E. \nOlympia\, WA 98501 \nPOC: Rebekah Ziesemer rzieseme@ci.olympia.wa.us \n  \n 
URL:https://www.waorca.org/event/thurston-county-orc-meeting-2/2030-08-14/
LOCATION:Olympia City Hall RM 207\, 601 4th Ave E.\, 98501\, United States
END:VEVENT
BEGIN:VEVENT
DTSTART;TZID=America/Los_Angeles:20300815T110000
DTEND;TZID=America/Los_Angeles:20300815T110000
DTSTAMP:20260420T173209
CREATED:20250430T060409Z
LAST-MODIFIED:20260306T011442Z
UID:10000434-1913022000-1913022000@www.waorca.org
SUMMARY:Pierce County ORC Meeting
DESCRIPTION:Pierce County ORC Meeting   \n11:00 am \nSouth Hill Mall \nParking near Round 1 Bowling – 3500 S Meridian Suite 900\, Puyallup\, WA  98373 \nEntrance to the right of Round 1 Bowling. Continue straight to the Community Room \nPOC: Cynthia Torres cynthia.torres@stores.fredmeyer.com \nPOC: Maria McGuiness maria.mcguinness@fredmeyer.com \nPOC: Joe Laky Joseph.Laky@walmart.com
URL:https://www.waorca.org/event/pierce-county-orc-meeting-2/2030-08-15/
LOCATION:Pierce County\, 3500 S. Meridian Suite 900\, Puyallup\, WA\, 98373\, United States
END:VEVENT
BEGIN:VEVENT
DTSTART;TZID=America/Los_Angeles:20300828T110000
DTEND;TZID=America/Los_Angeles:20300828T120000
DTSTAMP:20260420T173209
CREATED:20250411T051816Z
LAST-MODIFIED:20260420T113756Z
UID:10000767-1914145200-1914148800@www.waorca.org
SUMMARY:King County Southcenter ORC Meeting
DESCRIPTION:King County ORC Meeting   \n11:00 am \nTukwila Police Station EOC Room \n15005 Tukwila International Blvd\, Tukwila\, WA 98168 \nPOC: Robert  Mosley  R.Mosley@TukwilaWA.gov
URL:https://www.waorca.org/event/king-county-orc-meeting/2030-08-28/
LOCATION:Tukwila Police Station\, 15005 Tukwila International Blvd\, Tukwila\, 98168\, United States
END:VEVENT
BEGIN:VEVENT
DTSTART;TZID=America/Los_Angeles:20300828T120000
DTEND;TZID=America/Los_Angeles:20300828T130000
DTSTAMP:20260420T173209
CREATED:20260303T182550Z
LAST-MODIFIED:20260420T113522Z
UID:10000375-1914148800-1914152400@www.waorca.org
SUMMARY:Skagit Local ORC Meeting
DESCRIPTION:Skagit Local ORC Meeting \n12:00 pm   \nBurlington Library \n820 E. Washington St. \nBurlington\, WA  98233 \nPOC/RSVP- Bob Fisher bob.f@hardwaresales.net 
URL:https://www.waorca.org/event/skagit-local-orc-meeting/2030-08-28/
LOCATION:Skagit ORC Meeting\, 820 E. Washington St.\, Burlington\, 98233\, United States
END:VEVENT
BEGIN:VEVENT
DTSTART;TZID=America/Los_Angeles:20300903T100000
DTEND;TZID=America/Los_Angeles:20300903T110000
DTSTAMP:20260420T173209
CREATED:20260420T112428Z
LAST-MODIFIED:20260420T112428Z
UID:10000613-1914660000-1914663600@www.waorca.org
SUMMARY:WA AG ORC Task Force Online Meeting
DESCRIPTION:AG Online Meeting:  \n10 am \nPOC: John D. Olsen john.olsen@wsfc.wa.gov \nZOOM meeting: See email for link.
URL:https://www.waorca.org/event/wa-ag-orc-task-force-online-meeting-2/2030-09-03/
LOCATION:Zoom Online
END:VEVENT
BEGIN:VEVENT
DTSTART;TZID=America/Los_Angeles:20300911T110000
DTEND;TZID=America/Los_Angeles:20300911T110000
DTSTAMP:20260420T173209
CREATED:20250430T052002Z
LAST-MODIFIED:20260420T112629Z
UID:10000731-1915354800-1915354800@www.waorca.org
SUMMARY:Thurston County ORC Meeting
DESCRIPTION:Thurston County ORC Meeting \n10:00 am \nOlympia City Hall\, Rm 207 \n601 4th Ave E. \nOlympia\, WA 98501 \nPOC: Rebekah Ziesemer rzieseme@ci.olympia.wa.us \n  \n 
URL:https://www.waorca.org/event/thurston-county-orc-meeting-2/2030-09-11/
LOCATION:Olympia City Hall RM 207\, 601 4th Ave E.\, 98501\, United States
END:VEVENT
BEGIN:VEVENT
DTSTART;TZID=America/Los_Angeles:20300911T130000
DTEND;TZID=America/Los_Angeles:20300911T140000
DTSTAMP:20260420T173209
CREATED:20250430T052255Z
LAST-MODIFIED:20260420T113434Z
UID:10000646-1915362000-1915365600@www.waorca.org
SUMMARY:Kitsap Local ORC Meeting
DESCRIPTION:Kitsap Local ORC Chapter Meeting  \n1:00 pm \nKitsap County Sherriff’s Office \n3951 Randall Wy. \nSilverdale\, WA \nPOC: Montague Schon smontagu@kitsap.gov
URL:https://www.waorca.org/event/king-county-orc-meeting-2/2030-09-11/
LOCATION:Kitsap County Sheriff’s Office\, 3951 Randall Wy.\, Silverdale\, WA\, 98383\, United States
END:VEVENT
BEGIN:VEVENT
DTSTART;TZID=America/Los_Angeles:20300912T130000
DTEND;TZID=America/Los_Angeles:20300912T130000
DTSTAMP:20260420T173209
CREATED:20250430T051849Z
LAST-MODIFIED:20260306T011520Z
UID:10000494-1915448400-1915448400@www.waorca.org
SUMMARY:Whatcom Local ORC Meeting
DESCRIPTION:Whatcom Local ORC Meeting    \n1:00 pm \nBellis Fair Mall Community Room\, \nBellingham\, WA 98226 \nPOC/RSVP- Bob Fisher bob.f@hardwaresales.net \nPOC: Jakib West– Jakib.west@stores.fredmeyer.com \n  
URL:https://www.waorca.org/event/whatcom-local-orc-meeting-2/2030-09-12/
END:VEVENT
BEGIN:VEVENT
DTSTART;TZID=America/Los_Angeles:20300919T110000
DTEND;TZID=America/Los_Angeles:20300919T110000
DTSTAMP:20260420T173209
CREATED:20250430T060409Z
LAST-MODIFIED:20260306T011442Z
UID:10000435-1916046000-1916046000@www.waorca.org
SUMMARY:Pierce County ORC Meeting
DESCRIPTION:Pierce County ORC Meeting   \n11:00 am \nSouth Hill Mall \nParking near Round 1 Bowling – 3500 S Meridian Suite 900\, Puyallup\, WA  98373 \nEntrance to the right of Round 1 Bowling. Continue straight to the Community Room \nPOC: Cynthia Torres cynthia.torres@stores.fredmeyer.com \nPOC: Maria McGuiness maria.mcguinness@fredmeyer.com \nPOC: Joe Laky Joseph.Laky@walmart.com
URL:https://www.waorca.org/event/pierce-county-orc-meeting-2/2030-09-19/
LOCATION:Pierce County\, 3500 S. Meridian Suite 900\, Puyallup\, WA\, 98373\, United States
END:VEVENT
BEGIN:VEVENT
DTSTART;TZID=America/Los_Angeles:20300925T110000
DTEND;TZID=America/Los_Angeles:20300925T120000
DTSTAMP:20260420T173209
CREATED:20250430T055836Z
LAST-MODIFIED:20260306T191336Z
UID:10000320-1916564400-1916568000@www.waorca.org
SUMMARY:King County ORC Meeting Bellevue Collection
DESCRIPTION:King County ORC Meeting (Bellevue Collection) \n11:00am to 12:00pm \nBellevue Collection – Collaboration Center \nBellevue\, WA 98004 \nPoint of Contact:  Carl Kleinknecht: carl.kleinknecht@kemperdc.com
URL:https://www.waorca.org/event/king-county-orc-meeting-3/2030-09-25/
LOCATION:Bellevue Collection\, 575 Bellevue Square\, Bellevue\, WA\, 98004\, United States
END:VEVENT
BEGIN:VEVENT
DTSTART;TZID=America/Los_Angeles:20300925T120000
DTEND;TZID=America/Los_Angeles:20300925T130000
DTSTAMP:20260420T173209
CREATED:20260303T182550Z
LAST-MODIFIED:20260420T113522Z
UID:10000376-1916568000-1916571600@www.waorca.org
SUMMARY:Skagit Local ORC Meeting
DESCRIPTION:Skagit Local ORC Meeting \n12:00 pm   \nBurlington Library \n820 E. Washington St. \nBurlington\, WA  98233 \nPOC/RSVP- Bob Fisher bob.f@hardwaresales.net 
URL:https://www.waorca.org/event/skagit-local-orc-meeting/2030-09-25/
LOCATION:Skagit ORC Meeting\, 820 E. Washington St.\, Burlington\, 98233\, United States
END:VEVENT
BEGIN:VEVENT
DTSTART;TZID=America/Los_Angeles:20301001T100000
DTEND;TZID=America/Los_Angeles:20301001T110000
DTSTAMP:20260420T173209
CREATED:20260420T112428Z
LAST-MODIFIED:20260420T112428Z
UID:10000614-1917079200-1917082800@www.waorca.org
SUMMARY:WA AG ORC Task Force Online Meeting
DESCRIPTION:AG Online Meeting:  \n10 am \nPOC: John D. Olsen john.olsen@wsfc.wa.gov \nZOOM meeting: See email for link.
URL:https://www.waorca.org/event/wa-ag-orc-task-force-online-meeting-2/2030-10-01/
LOCATION:Zoom Online
END:VEVENT
BEGIN:VEVENT
DTSTART;TZID=America/Los_Angeles:20301009T110000
DTEND;TZID=America/Los_Angeles:20301009T110000
DTSTAMP:20260420T173209
CREATED:20250430T052002Z
LAST-MODIFIED:20260420T112629Z
UID:10000732-1917774000-1917774000@www.waorca.org
SUMMARY:Thurston County ORC Meeting
DESCRIPTION:Thurston County ORC Meeting \n10:00 am \nOlympia City Hall\, Rm 207 \n601 4th Ave E. \nOlympia\, WA 98501 \nPOC: Rebekah Ziesemer rzieseme@ci.olympia.wa.us \n  \n 
URL:https://www.waorca.org/event/thurston-county-orc-meeting-2/2030-10-09/
LOCATION:Olympia City Hall RM 207\, 601 4th Ave E.\, 98501\, United States
END:VEVENT
BEGIN:VEVENT
DTSTART;TZID=America/Los_Angeles:20301010T130000
DTEND;TZID=America/Los_Angeles:20301010T130000
DTSTAMP:20260420T173209
CREATED:20250430T051849Z
LAST-MODIFIED:20260306T011520Z
UID:10000495-1917867600-1917867600@www.waorca.org
SUMMARY:Whatcom Local ORC Meeting
DESCRIPTION:Whatcom Local ORC Meeting    \n1:00 pm \nBellis Fair Mall Community Room\, \nBellingham\, WA 98226 \nPOC/RSVP- Bob Fisher bob.f@hardwaresales.net \nPOC: Jakib West– Jakib.west@stores.fredmeyer.com \n  
URL:https://www.waorca.org/event/whatcom-local-orc-meeting-2/2030-10-10/
END:VEVENT
BEGIN:VEVENT
DTSTART;TZID=America/Los_Angeles:20301017T110000
DTEND;TZID=America/Los_Angeles:20301017T110000
DTSTAMP:20260420T173209
CREATED:20250430T060409Z
LAST-MODIFIED:20260306T011442Z
UID:10000436-1918465200-1918465200@www.waorca.org
SUMMARY:Pierce County ORC Meeting
DESCRIPTION:Pierce County ORC Meeting   \n11:00 am \nSouth Hill Mall \nParking near Round 1 Bowling – 3500 S Meridian Suite 900\, Puyallup\, WA  98373 \nEntrance to the right of Round 1 Bowling. Continue straight to the Community Room \nPOC: Cynthia Torres cynthia.torres@stores.fredmeyer.com \nPOC: Maria McGuiness maria.mcguinness@fredmeyer.com \nPOC: Joe Laky Joseph.Laky@walmart.com
URL:https://www.waorca.org/event/pierce-county-orc-meeting-2/2030-10-17/
LOCATION:Pierce County\, 3500 S. Meridian Suite 900\, Puyallup\, WA\, 98373\, United States
END:VEVENT
BEGIN:VEVENT
DTSTART;TZID=America/Los_Angeles:20301023T110000
DTEND;TZID=America/Los_Angeles:20301023T120000
DTSTAMP:20260420T173209
CREATED:20250411T051816Z
LAST-MODIFIED:20260420T113756Z
UID:10000768-1918983600-1918987200@www.waorca.org
SUMMARY:King County Southcenter ORC Meeting
DESCRIPTION:King County ORC Meeting   \n11:00 am \nTukwila Police Station EOC Room \n15005 Tukwila International Blvd\, Tukwila\, WA 98168 \nPOC: Robert  Mosley  R.Mosley@TukwilaWA.gov
URL:https://www.waorca.org/event/king-county-orc-meeting/2030-10-23/
LOCATION:Tukwila Police Station\, 15005 Tukwila International Blvd\, Tukwila\, 98168\, United States
END:VEVENT
BEGIN:VEVENT
DTSTART;TZID=America/Los_Angeles:20301030T120000
DTEND;TZID=America/Los_Angeles:20301030T130000
DTSTAMP:20260420T173209
CREATED:20260303T182550Z
LAST-MODIFIED:20260420T113522Z
UID:10000673-1919592000-1919595600@www.waorca.org
SUMMARY:Skagit Local ORC Meeting
DESCRIPTION:Skagit Local ORC Meeting \n12:00 pm   \nBurlington Library \n820 E. Washington St. \nBurlington\, WA  98233 \nPOC/RSVP- Bob Fisher bob.f@hardwaresales.net 
URL:https://www.waorca.org/event/skagit-local-orc-meeting/2030-10-30/
LOCATION:Skagit ORC Meeting\, 820 E. Washington St.\, Burlington\, 98233\, United States
END:VEVENT
BEGIN:VEVENT
DTSTART;TZID=America/Los_Angeles:20301105T100000
DTEND;TZID=America/Los_Angeles:20301105T110000
DTSTAMP:20260420T173209
CREATED:20260420T112428Z
LAST-MODIFIED:20260420T112428Z
UID:10000615-1920103200-1920106800@www.waorca.org
SUMMARY:WA AG ORC Task Force Online Meeting
DESCRIPTION:AG Online Meeting:  \n10 am \nPOC: John D. Olsen john.olsen@wsfc.wa.gov \nZOOM meeting: See email for link.
URL:https://www.waorca.org/event/wa-ag-orc-task-force-online-meeting-2/2030-11-05/
LOCATION:Zoom Online
END:VEVENT
BEGIN:VEVENT
DTSTART;TZID=America/Los_Angeles:20301113T110000
DTEND;TZID=America/Los_Angeles:20301113T110000
DTSTAMP:20260420T173209
CREATED:20250430T052002Z
LAST-MODIFIED:20260420T112629Z
UID:10000733-1920798000-1920798000@www.waorca.org
SUMMARY:Thurston County ORC Meeting
DESCRIPTION:Thurston County ORC Meeting \n10:00 am \nOlympia City Hall\, Rm 207 \n601 4th Ave E. \nOlympia\, WA 98501 \nPOC: Rebekah Ziesemer rzieseme@ci.olympia.wa.us \n  \n 
URL:https://www.waorca.org/event/thurston-county-orc-meeting-2/2030-11-13/
LOCATION:Olympia City Hall RM 207\, 601 4th Ave E.\, 98501\, United States
END:VEVENT
BEGIN:VEVENT
DTSTART;TZID=America/Los_Angeles:20301113T130000
DTEND;TZID=America/Los_Angeles:20301113T140000
DTSTAMP:20260420T173209
CREATED:20250430T052255Z
LAST-MODIFIED:20260420T113434Z
UID:10000647-1920805200-1920808800@www.waorca.org
SUMMARY:Kitsap Local ORC Meeting
DESCRIPTION:Kitsap Local ORC Chapter Meeting  \n1:00 pm \nKitsap County Sherriff’s Office \n3951 Randall Wy. \nSilverdale\, WA \nPOC: Montague Schon smontagu@kitsap.gov
URL:https://www.waorca.org/event/king-county-orc-meeting-2/2030-11-13/
LOCATION:Kitsap County Sheriff’s Office\, 3951 Randall Wy.\, Silverdale\, WA\, 98383\, United States
END:VEVENT
BEGIN:VEVENT
DTSTART;TZID=America/Los_Angeles:20301114T130000
DTEND;TZID=America/Los_Angeles:20301114T130000
DTSTAMP:20260420T173209
CREATED:20250430T051849Z
LAST-MODIFIED:20260306T011520Z
UID:10000496-1920891600-1920891600@www.waorca.org
SUMMARY:Whatcom Local ORC Meeting
DESCRIPTION:Whatcom Local ORC Meeting    \n1:00 pm \nBellis Fair Mall Community Room\, \nBellingham\, WA 98226 \nPOC/RSVP- Bob Fisher bob.f@hardwaresales.net \nPOC: Jakib West– Jakib.west@stores.fredmeyer.com \n  
URL:https://www.waorca.org/event/whatcom-local-orc-meeting-2/2030-11-14/
END:VEVENT
BEGIN:VEVENT
DTSTART;TZID=America/Los_Angeles:20301121T110000
DTEND;TZID=America/Los_Angeles:20301121T110000
DTSTAMP:20260420T173209
CREATED:20250430T060409Z
LAST-MODIFIED:20260306T011442Z
UID:10000437-1921489200-1921489200@www.waorca.org
SUMMARY:Pierce County ORC Meeting
DESCRIPTION:Pierce County ORC Meeting   \n11:00 am \nSouth Hill Mall \nParking near Round 1 Bowling – 3500 S Meridian Suite 900\, Puyallup\, WA  98373 \nEntrance to the right of Round 1 Bowling. Continue straight to the Community Room \nPOC: Cynthia Torres cynthia.torres@stores.fredmeyer.com \nPOC: Maria McGuiness maria.mcguinness@fredmeyer.com \nPOC: Joe Laky Joseph.Laky@walmart.com
URL:https://www.waorca.org/event/pierce-county-orc-meeting-2/2030-11-21/
LOCATION:Pierce County\, 3500 S. Meridian Suite 900\, Puyallup\, WA\, 98373\, United States
END:VEVENT
BEGIN:VEVENT
DTSTART;TZID=America/Los_Angeles:20301127T110000
DTEND;TZID=America/Los_Angeles:20301127T120000
DTSTAMP:20260420T173209
CREATED:20250430T055836Z
LAST-MODIFIED:20260306T191336Z
UID:10000321-1922007600-1922011200@www.waorca.org
SUMMARY:King County ORC Meeting Bellevue Collection
DESCRIPTION:King County ORC Meeting (Bellevue Collection) \n11:00am to 12:00pm \nBellevue Collection – Collaboration Center \nBellevue\, WA 98004 \nPoint of Contact:  Carl Kleinknecht: carl.kleinknecht@kemperdc.com
URL:https://www.waorca.org/event/king-county-orc-meeting-3/2030-11-27/
LOCATION:Bellevue Collection\, 575 Bellevue Square\, Bellevue\, WA\, 98004\, United States
END:VEVENT
BEGIN:VEVENT
DTSTART;TZID=America/Los_Angeles:20301127T120000
DTEND;TZID=America/Los_Angeles:20301127T130000
DTSTAMP:20260420T173209
CREATED:20260303T182550Z
LAST-MODIFIED:20260420T113522Z
UID:10000378-1922011200-1922014800@www.waorca.org
SUMMARY:Skagit Local ORC Meeting
DESCRIPTION:Skagit Local ORC Meeting \n12:00 pm   \nBurlington Library \n820 E. Washington St. \nBurlington\, WA  98233 \nPOC/RSVP- Bob Fisher bob.f@hardwaresales.net 
URL:https://www.waorca.org/event/skagit-local-orc-meeting/2030-11-27/
LOCATION:Skagit ORC Meeting\, 820 E. Washington St.\, Burlington\, 98233\, United States
END:VEVENT
BEGIN:VEVENT
DTSTART;TZID=America/Los_Angeles:20301203T100000
DTEND;TZID=America/Los_Angeles:20301203T110000
DTSTAMP:20260420T173209
CREATED:20260420T112428Z
LAST-MODIFIED:20260420T112428Z
UID:10000616-1922522400-1922526000@www.waorca.org
SUMMARY:WA AG ORC Task Force Online Meeting
DESCRIPTION:AG Online Meeting:  \n10 am \nPOC: John D. Olsen john.olsen@wsfc.wa.gov \nZOOM meeting: See email for link.
URL:https://www.waorca.org/event/wa-ag-orc-task-force-online-meeting-2/2030-12-03/
LOCATION:Zoom Online
END:VEVENT
BEGIN:VEVENT
DTSTART;TZID=America/Los_Angeles:20301211T110000
DTEND;TZID=America/Los_Angeles:20301211T110000
DTSTAMP:20260420T173209
CREATED:20250430T052002Z
LAST-MODIFIED:20260420T112629Z
UID:10000734-1923217200-1923217200@www.waorca.org
SUMMARY:Thurston County ORC Meeting
DESCRIPTION:Thurston County ORC Meeting \n10:00 am \nOlympia City Hall\, Rm 207 \n601 4th Ave E. \nOlympia\, WA 98501 \nPOC: Rebekah Ziesemer rzieseme@ci.olympia.wa.us \n  \n 
URL:https://www.waorca.org/event/thurston-county-orc-meeting-2/2030-12-11/
LOCATION:Olympia City Hall RM 207\, 601 4th Ave E.\, 98501\, United States
END:VEVENT
BEGIN:VEVENT
DTSTART;TZID=America/Los_Angeles:20301212T130000
DTEND;TZID=America/Los_Angeles:20301212T130000
DTSTAMP:20260420T173209
CREATED:20250430T051849Z
LAST-MODIFIED:20260306T011520Z
UID:10000497-1923310800-1923310800@www.waorca.org
SUMMARY:Whatcom Local ORC Meeting
DESCRIPTION:Whatcom Local ORC Meeting    \n1:00 pm \nBellis Fair Mall Community Room\, \nBellingham\, WA 98226 \nPOC/RSVP- Bob Fisher bob.f@hardwaresales.net \nPOC: Jakib West– Jakib.west@stores.fredmeyer.com \n  
URL:https://www.waorca.org/event/whatcom-local-orc-meeting-2/2030-12-12/
END:VEVENT
END:VCALENDAR