BEGIN:VCALENDAR
VERSION:2.0
PRODID:-//WAORCA - ECPv6.15.20//NONSGML v1.0//EN
CALSCALE:GREGORIAN
METHOD:PUBLISH
X-ORIGINAL-URL:https://www.waorca.org
X-WR-CALDESC:Events for WAORCA
REFRESH-INTERVAL;VALUE=DURATION:PT1H
X-Robots-Tag:noindex
X-PUBLISHED-TTL:PT1H
BEGIN:VTIMEZONE
TZID:America/Los_Angeles
BEGIN:DAYLIGHT
TZOFFSETFROM:-0800
TZOFFSETTO:-0700
TZNAME:PDT
DTSTART:20290311T100000
END:DAYLIGHT
BEGIN:STANDARD
TZOFFSETFROM:-0700
TZOFFSETTO:-0800
TZNAME:PST
DTSTART:20291104T090000
END:STANDARD
BEGIN:DAYLIGHT
TZOFFSETFROM:-0800
TZOFFSETTO:-0700
TZNAME:PDT
DTSTART:20300310T100000
END:DAYLIGHT
BEGIN:STANDARD
TZOFFSETFROM:-0700
TZOFFSETTO:-0800
TZNAME:PST
DTSTART:20301103T090000
END:STANDARD
BEGIN:DAYLIGHT
TZOFFSETFROM:-0800
TZOFFSETTO:-0700
TZNAME:PDT
DTSTART:20310309T100000
END:DAYLIGHT
BEGIN:STANDARD
TZOFFSETFROM:-0700
TZOFFSETTO:-0800
TZNAME:PST
DTSTART:20311102T090000
END:STANDARD
BEGIN:DAYLIGHT
TZOFFSETFROM:-0800
TZOFFSETTO:-0700
TZNAME:PDT
DTSTART:20320314T100000
END:DAYLIGHT
BEGIN:STANDARD
TZOFFSETFROM:-0700
TZOFFSETTO:-0800
TZNAME:PST
DTSTART:20321107T090000
END:STANDARD
END:VTIMEZONE
BEGIN:VEVENT
DTSTART;TZID=America/Los_Angeles:20301121T110000
DTEND;TZID=America/Los_Angeles:20301121T110000
DTSTAMP:20260420T195531
CREATED:20250430T060409Z
LAST-MODIFIED:20260306T011442Z
UID:10000437-1921489200-1921489200@www.waorca.org
SUMMARY:Pierce County ORC Meeting
DESCRIPTION:Pierce County ORC Meeting   \n11:00 am \nSouth Hill Mall \nParking near Round 1 Bowling – 3500 S Meridian Suite 900\, Puyallup\, WA  98373 \nEntrance to the right of Round 1 Bowling. Continue straight to the Community Room \nPOC: Cynthia Torres cynthia.torres@stores.fredmeyer.com \nPOC: Maria McGuiness maria.mcguinness@fredmeyer.com \nPOC: Joe Laky Joseph.Laky@walmart.com
URL:https://www.waorca.org/event/pierce-county-orc-meeting-2/2030-11-21/
LOCATION:Pierce County\, 3500 S. Meridian Suite 900\, Puyallup\, WA\, 98373\, United States
END:VEVENT
BEGIN:VEVENT
DTSTART;TZID=America/Los_Angeles:20301127T110000
DTEND;TZID=America/Los_Angeles:20301127T120000
DTSTAMP:20260420T195531
CREATED:20250430T055836Z
LAST-MODIFIED:20260306T191336Z
UID:10000321-1922007600-1922011200@www.waorca.org
SUMMARY:King County ORC Meeting Bellevue Collection
DESCRIPTION:King County ORC Meeting (Bellevue Collection) \n11:00am to 12:00pm \nBellevue Collection – Collaboration Center \nBellevue\, WA 98004 \nPoint of Contact:  Carl Kleinknecht: carl.kleinknecht@kemperdc.com
URL:https://www.waorca.org/event/king-county-orc-meeting-3/2030-11-27/
LOCATION:Bellevue Collection\, 575 Bellevue Square\, Bellevue\, WA\, 98004\, United States
END:VEVENT
BEGIN:VEVENT
DTSTART;TZID=America/Los_Angeles:20301127T120000
DTEND;TZID=America/Los_Angeles:20301127T130000
DTSTAMP:20260420T195531
CREATED:20260303T182550Z
LAST-MODIFIED:20260420T113522Z
UID:10000378-1922011200-1922014800@www.waorca.org
SUMMARY:Skagit Local ORC Meeting
DESCRIPTION:Skagit Local ORC Meeting \n12:00 pm   \nBurlington Library \n820 E. Washington St. \nBurlington\, WA  98233 \nPOC/RSVP- Bob Fisher bob.f@hardwaresales.net 
URL:https://www.waorca.org/event/skagit-local-orc-meeting/2030-11-27/
LOCATION:Skagit ORC Meeting\, 820 E. Washington St.\, Burlington\, 98233\, United States
END:VEVENT
BEGIN:VEVENT
DTSTART;TZID=America/Los_Angeles:20301203T100000
DTEND;TZID=America/Los_Angeles:20301203T110000
DTSTAMP:20260420T195531
CREATED:20260420T112428Z
LAST-MODIFIED:20260420T112428Z
UID:10000616-1922522400-1922526000@www.waorca.org
SUMMARY:WA AG ORC Task Force Online Meeting
DESCRIPTION:AG Online Meeting:  \n10 am \nPOC: John D. Olsen john.olsen@wsfc.wa.gov \nZOOM meeting: See email for link.
URL:https://www.waorca.org/event/wa-ag-orc-task-force-online-meeting-2/2030-12-03/
LOCATION:Zoom Online
END:VEVENT
BEGIN:VEVENT
DTSTART;TZID=America/Los_Angeles:20301211T110000
DTEND;TZID=America/Los_Angeles:20301211T110000
DTSTAMP:20260420T195531
CREATED:20250430T052002Z
LAST-MODIFIED:20260420T112629Z
UID:10000734-1923217200-1923217200@www.waorca.org
SUMMARY:Thurston County ORC Meeting
DESCRIPTION:Thurston County ORC Meeting \n10:00 am \nOlympia City Hall\, Rm 207 \n601 4th Ave E. \nOlympia\, WA 98501 \nPOC: Rebekah Ziesemer rzieseme@ci.olympia.wa.us \n  \n 
URL:https://www.waorca.org/event/thurston-county-orc-meeting-2/2030-12-11/
LOCATION:Olympia City Hall RM 207\, 601 4th Ave E.\, 98501\, United States
END:VEVENT
BEGIN:VEVENT
DTSTART;TZID=America/Los_Angeles:20301212T130000
DTEND;TZID=America/Los_Angeles:20301212T130000
DTSTAMP:20260420T195531
CREATED:20250430T051849Z
LAST-MODIFIED:20260306T011520Z
UID:10000497-1923310800-1923310800@www.waorca.org
SUMMARY:Whatcom Local ORC Meeting
DESCRIPTION:Whatcom Local ORC Meeting    \n1:00 pm \nBellis Fair Mall Community Room\, \nBellingham\, WA 98226 \nPOC/RSVP- Bob Fisher bob.f@hardwaresales.net \nPOC: Jakib West– Jakib.west@stores.fredmeyer.com \n  
URL:https://www.waorca.org/event/whatcom-local-orc-meeting-2/2030-12-12/
END:VEVENT
BEGIN:VEVENT
DTSTART;TZID=America/Los_Angeles:20301219T110000
DTEND;TZID=America/Los_Angeles:20301219T110000
DTSTAMP:20260420T195531
CREATED:20250430T060409Z
LAST-MODIFIED:20260306T011442Z
UID:10000438-1923908400-1923908400@www.waorca.org
SUMMARY:Pierce County ORC Meeting
DESCRIPTION:Pierce County ORC Meeting   \n11:00 am \nSouth Hill Mall \nParking near Round 1 Bowling – 3500 S Meridian Suite 900\, Puyallup\, WA  98373 \nEntrance to the right of Round 1 Bowling. Continue straight to the Community Room \nPOC: Cynthia Torres cynthia.torres@stores.fredmeyer.com \nPOC: Maria McGuiness maria.mcguinness@fredmeyer.com \nPOC: Joe Laky Joseph.Laky@walmart.com
URL:https://www.waorca.org/event/pierce-county-orc-meeting-2/2030-12-19/
LOCATION:Pierce County\, 3500 S. Meridian Suite 900\, Puyallup\, WA\, 98373\, United States
END:VEVENT
BEGIN:VEVENT
DTSTART;TZID=America/Los_Angeles:20301225T110000
DTEND;TZID=America/Los_Angeles:20301225T120000
DTSTAMP:20260420T195531
CREATED:20250411T051816Z
LAST-MODIFIED:20260420T113756Z
UID:10000769-1924426800-1924430400@www.waorca.org
SUMMARY:King County Southcenter ORC Meeting
DESCRIPTION:King County ORC Meeting   \n11:00 am \nTukwila Police Station EOC Room \n15005 Tukwila International Blvd\, Tukwila\, WA 98168 \nPOC: Robert  Mosley  R.Mosley@TukwilaWA.gov
URL:https://www.waorca.org/event/king-county-orc-meeting/2030-12-25/
LOCATION:Tukwila Police Station\, 15005 Tukwila International Blvd\, Tukwila\, 98168\, United States
END:VEVENT
BEGIN:VEVENT
DTSTART;TZID=America/Los_Angeles:20301225T120000
DTEND;TZID=America/Los_Angeles:20301225T130000
DTSTAMP:20260420T195531
CREATED:20260303T182550Z
LAST-MODIFIED:20260420T113522Z
UID:10000379-1924430400-1924434000@www.waorca.org
SUMMARY:Skagit Local ORC Meeting
DESCRIPTION:Skagit Local ORC Meeting \n12:00 pm   \nBurlington Library \n820 E. Washington St. \nBurlington\, WA  98233 \nPOC/RSVP- Bob Fisher bob.f@hardwaresales.net 
URL:https://www.waorca.org/event/skagit-local-orc-meeting/2030-12-25/
LOCATION:Skagit ORC Meeting\, 820 E. Washington St.\, Burlington\, 98233\, United States
END:VEVENT
BEGIN:VEVENT
DTSTART;TZID=America/Los_Angeles:20310107T100000
DTEND;TZID=America/Los_Angeles:20310107T110000
DTSTAMP:20260420T195531
CREATED:20260420T112428Z
LAST-MODIFIED:20260420T112428Z
UID:10000617-1925546400-1925550000@www.waorca.org
SUMMARY:WA AG ORC Task Force Online Meeting
DESCRIPTION:AG Online Meeting:  \n10 am \nPOC: John D. Olsen john.olsen@wsfc.wa.gov \nZOOM meeting: See email for link.
URL:https://www.waorca.org/event/wa-ag-orc-task-force-online-meeting-2/2031-01-07/
LOCATION:Zoom Online
END:VEVENT
BEGIN:VEVENT
DTSTART;TZID=America/Los_Angeles:20310108T110000
DTEND;TZID=America/Los_Angeles:20310108T110000
DTSTAMP:20260420T195531
CREATED:20250430T052002Z
LAST-MODIFIED:20260420T112629Z
UID:10000735-1925636400-1925636400@www.waorca.org
SUMMARY:Thurston County ORC Meeting
DESCRIPTION:Thurston County ORC Meeting \n10:00 am \nOlympia City Hall\, Rm 207 \n601 4th Ave E. \nOlympia\, WA 98501 \nPOC: Rebekah Ziesemer rzieseme@ci.olympia.wa.us \n  \n 
URL:https://www.waorca.org/event/thurston-county-orc-meeting-2/2031-01-08/
LOCATION:Olympia City Hall RM 207\, 601 4th Ave E.\, 98501\, United States
END:VEVENT
BEGIN:VEVENT
DTSTART;TZID=America/Los_Angeles:20310108T130000
DTEND;TZID=America/Los_Angeles:20310108T140000
DTSTAMP:20260420T195531
CREATED:20250430T052255Z
LAST-MODIFIED:20260420T113434Z
UID:10000648-1925643600-1925647200@www.waorca.org
SUMMARY:Kitsap Local ORC Meeting
DESCRIPTION:Kitsap Local ORC Chapter Meeting  \n1:00 pm \nKitsap County Sherriff’s Office \n3951 Randall Wy. \nSilverdale\, WA \nPOC: Montague Schon smontagu@kitsap.gov
URL:https://www.waorca.org/event/king-county-orc-meeting-2/2031-01-08/
LOCATION:Kitsap County Sheriff’s Office\, 3951 Randall Wy.\, Silverdale\, WA\, 98383\, United States
END:VEVENT
BEGIN:VEVENT
DTSTART;TZID=America/Los_Angeles:20310109T130000
DTEND;TZID=America/Los_Angeles:20310109T130000
DTSTAMP:20260420T195531
CREATED:20250430T051849Z
LAST-MODIFIED:20260306T011520Z
UID:10000498-1925730000-1925730000@www.waorca.org
SUMMARY:Whatcom Local ORC Meeting
DESCRIPTION:Whatcom Local ORC Meeting    \n1:00 pm \nBellis Fair Mall Community Room\, \nBellingham\, WA 98226 \nPOC/RSVP- Bob Fisher bob.f@hardwaresales.net \nPOC: Jakib West– Jakib.west@stores.fredmeyer.com \n  
URL:https://www.waorca.org/event/whatcom-local-orc-meeting-2/2031-01-09/
END:VEVENT
BEGIN:VEVENT
DTSTART;TZID=America/Los_Angeles:20310116T110000
DTEND;TZID=America/Los_Angeles:20310116T110000
DTSTAMP:20260420T195531
CREATED:20250430T060409Z
LAST-MODIFIED:20260306T011442Z
UID:10000439-1926327600-1926327600@www.waorca.org
SUMMARY:Pierce County ORC Meeting
DESCRIPTION:Pierce County ORC Meeting   \n11:00 am \nSouth Hill Mall \nParking near Round 1 Bowling – 3500 S Meridian Suite 900\, Puyallup\, WA  98373 \nEntrance to the right of Round 1 Bowling. Continue straight to the Community Room \nPOC: Cynthia Torres cynthia.torres@stores.fredmeyer.com \nPOC: Maria McGuiness maria.mcguinness@fredmeyer.com \nPOC: Joe Laky Joseph.Laky@walmart.com
URL:https://www.waorca.org/event/pierce-county-orc-meeting-2/2031-01-16/
LOCATION:Pierce County\, 3500 S. Meridian Suite 900\, Puyallup\, WA\, 98373\, United States
END:VEVENT
BEGIN:VEVENT
DTSTART;TZID=America/Los_Angeles:20310122T110000
DTEND;TZID=America/Los_Angeles:20310122T120000
DTSTAMP:20260420T195531
CREATED:20250430T055836Z
LAST-MODIFIED:20260306T191336Z
UID:10000322-1926846000-1926849600@www.waorca.org
SUMMARY:King County ORC Meeting Bellevue Collection
DESCRIPTION:King County ORC Meeting (Bellevue Collection) \n11:00am to 12:00pm \nBellevue Collection – Collaboration Center \nBellevue\, WA 98004 \nPoint of Contact:  Carl Kleinknecht: carl.kleinknecht@kemperdc.com
URL:https://www.waorca.org/event/king-county-orc-meeting-3/2031-01-22/
LOCATION:Bellevue Collection\, 575 Bellevue Square\, Bellevue\, WA\, 98004\, United States
END:VEVENT
BEGIN:VEVENT
DTSTART;TZID=America/Los_Angeles:20310129T120000
DTEND;TZID=America/Los_Angeles:20310129T130000
DTSTAMP:20260420T195531
CREATED:20260303T182550Z
LAST-MODIFIED:20260420T113522Z
UID:10000674-1927454400-1927458000@www.waorca.org
SUMMARY:Skagit Local ORC Meeting
DESCRIPTION:Skagit Local ORC Meeting \n12:00 pm   \nBurlington Library \n820 E. Washington St. \nBurlington\, WA  98233 \nPOC/RSVP- Bob Fisher bob.f@hardwaresales.net 
URL:https://www.waorca.org/event/skagit-local-orc-meeting/2031-01-29/
LOCATION:Skagit ORC Meeting\, 820 E. Washington St.\, Burlington\, 98233\, United States
END:VEVENT
BEGIN:VEVENT
DTSTART;TZID=America/Los_Angeles:20310204T100000
DTEND;TZID=America/Los_Angeles:20310204T110000
DTSTAMP:20260420T195532
CREATED:20260420T112428Z
LAST-MODIFIED:20260420T112428Z
UID:10000618-1927965600-1927969200@www.waorca.org
SUMMARY:WA AG ORC Task Force Online Meeting
DESCRIPTION:AG Online Meeting:  \n10 am \nPOC: John D. Olsen john.olsen@wsfc.wa.gov \nZOOM meeting: See email for link.
URL:https://www.waorca.org/event/wa-ag-orc-task-force-online-meeting-2/2031-02-04/
LOCATION:Zoom Online
END:VEVENT
BEGIN:VEVENT
DTSTART;TZID=America/Los_Angeles:20310212T110000
DTEND;TZID=America/Los_Angeles:20310212T110000
DTSTAMP:20260420T195532
CREATED:20250430T052002Z
LAST-MODIFIED:20260420T112629Z
UID:10000736-1928660400-1928660400@www.waorca.org
SUMMARY:Thurston County ORC Meeting
DESCRIPTION:Thurston County ORC Meeting \n10:00 am \nOlympia City Hall\, Rm 207 \n601 4th Ave E. \nOlympia\, WA 98501 \nPOC: Rebekah Ziesemer rzieseme@ci.olympia.wa.us \n  \n 
URL:https://www.waorca.org/event/thurston-county-orc-meeting-2/2031-02-12/
LOCATION:Olympia City Hall RM 207\, 601 4th Ave E.\, 98501\, United States
END:VEVENT
BEGIN:VEVENT
DTSTART;TZID=America/Los_Angeles:20310213T130000
DTEND;TZID=America/Los_Angeles:20310213T130000
DTSTAMP:20260420T195532
CREATED:20250430T051849Z
LAST-MODIFIED:20260306T011520Z
UID:10000499-1928754000-1928754000@www.waorca.org
SUMMARY:Whatcom Local ORC Meeting
DESCRIPTION:Whatcom Local ORC Meeting    \n1:00 pm \nBellis Fair Mall Community Room\, \nBellingham\, WA 98226 \nPOC/RSVP- Bob Fisher bob.f@hardwaresales.net \nPOC: Jakib West– Jakib.west@stores.fredmeyer.com \n  
URL:https://www.waorca.org/event/whatcom-local-orc-meeting-2/2031-02-13/
END:VEVENT
BEGIN:VEVENT
DTSTART;TZID=America/Los_Angeles:20310220T110000
DTEND;TZID=America/Los_Angeles:20310220T110000
DTSTAMP:20260420T195532
CREATED:20250430T060409Z
LAST-MODIFIED:20260306T011442Z
UID:10000440-1929351600-1929351600@www.waorca.org
SUMMARY:Pierce County ORC Meeting
DESCRIPTION:Pierce County ORC Meeting   \n11:00 am \nSouth Hill Mall \nParking near Round 1 Bowling – 3500 S Meridian Suite 900\, Puyallup\, WA  98373 \nEntrance to the right of Round 1 Bowling. Continue straight to the Community Room \nPOC: Cynthia Torres cynthia.torres@stores.fredmeyer.com \nPOC: Maria McGuiness maria.mcguinness@fredmeyer.com \nPOC: Joe Laky Joseph.Laky@walmart.com
URL:https://www.waorca.org/event/pierce-county-orc-meeting-2/2031-02-20/
LOCATION:Pierce County\, 3500 S. Meridian Suite 900\, Puyallup\, WA\, 98373\, United States
END:VEVENT
BEGIN:VEVENT
DTSTART;TZID=America/Los_Angeles:20310226T110000
DTEND;TZID=America/Los_Angeles:20310226T120000
DTSTAMP:20260420T195532
CREATED:20250411T051816Z
LAST-MODIFIED:20260420T113756Z
UID:10000770-1929870000-1929873600@www.waorca.org
SUMMARY:King County Southcenter ORC Meeting
DESCRIPTION:King County ORC Meeting   \n11:00 am \nTukwila Police Station EOC Room \n15005 Tukwila International Blvd\, Tukwila\, WA 98168 \nPOC: Robert  Mosley  R.Mosley@TukwilaWA.gov
URL:https://www.waorca.org/event/king-county-orc-meeting/2031-02-26/
LOCATION:Tukwila Police Station\, 15005 Tukwila International Blvd\, Tukwila\, 98168\, United States
END:VEVENT
BEGIN:VEVENT
DTSTART;TZID=America/Los_Angeles:20310226T120000
DTEND;TZID=America/Los_Angeles:20310226T130000
DTSTAMP:20260420T195532
CREATED:20260303T182550Z
LAST-MODIFIED:20260420T113522Z
UID:10000381-1929873600-1929877200@www.waorca.org
SUMMARY:Skagit Local ORC Meeting
DESCRIPTION:Skagit Local ORC Meeting \n12:00 pm   \nBurlington Library \n820 E. Washington St. \nBurlington\, WA  98233 \nPOC/RSVP- Bob Fisher bob.f@hardwaresales.net 
URL:https://www.waorca.org/event/skagit-local-orc-meeting/2031-02-26/
LOCATION:Skagit ORC Meeting\, 820 E. Washington St.\, Burlington\, 98233\, United States
END:VEVENT
BEGIN:VEVENT
DTSTART;TZID=America/Los_Angeles:20310304T100000
DTEND;TZID=America/Los_Angeles:20310304T110000
DTSTAMP:20260420T195532
CREATED:20260420T112428Z
LAST-MODIFIED:20260420T112428Z
UID:10000619-1930384800-1930388400@www.waorca.org
SUMMARY:WA AG ORC Task Force Online Meeting
DESCRIPTION:AG Online Meeting:  \n10 am \nPOC: John D. Olsen john.olsen@wsfc.wa.gov \nZOOM meeting: See email for link.
URL:https://www.waorca.org/event/wa-ag-orc-task-force-online-meeting-2/2031-03-04/
LOCATION:Zoom Online
END:VEVENT
BEGIN:VEVENT
DTSTART;TZID=America/Los_Angeles:20310312T110000
DTEND;TZID=America/Los_Angeles:20310312T110000
DTSTAMP:20260420T195532
CREATED:20250430T052002Z
LAST-MODIFIED:20260420T112629Z
UID:10000737-1931079600-1931079600@www.waorca.org
SUMMARY:Thurston County ORC Meeting
DESCRIPTION:Thurston County ORC Meeting \n10:00 am \nOlympia City Hall\, Rm 207 \n601 4th Ave E. \nOlympia\, WA 98501 \nPOC: Rebekah Ziesemer rzieseme@ci.olympia.wa.us \n  \n 
URL:https://www.waorca.org/event/thurston-county-orc-meeting-2/2031-03-12/
LOCATION:Olympia City Hall RM 207\, 601 4th Ave E.\, 98501\, United States
END:VEVENT
BEGIN:VEVENT
DTSTART;TZID=America/Los_Angeles:20310312T130000
DTEND;TZID=America/Los_Angeles:20310312T140000
DTSTAMP:20260420T195532
CREATED:20250430T052255Z
LAST-MODIFIED:20260420T113434Z
UID:10000649-1931086800-1931090400@www.waorca.org
SUMMARY:Kitsap Local ORC Meeting
DESCRIPTION:Kitsap Local ORC Chapter Meeting  \n1:00 pm \nKitsap County Sherriff’s Office \n3951 Randall Wy. \nSilverdale\, WA \nPOC: Montague Schon smontagu@kitsap.gov
URL:https://www.waorca.org/event/king-county-orc-meeting-2/2031-03-12/
LOCATION:Kitsap County Sheriff’s Office\, 3951 Randall Wy.\, Silverdale\, WA\, 98383\, United States
END:VEVENT
BEGIN:VEVENT
DTSTART;TZID=America/Los_Angeles:20310326T120000
DTEND;TZID=America/Los_Angeles:20310326T130000
DTSTAMP:20260420T195532
CREATED:20260303T182550Z
LAST-MODIFIED:20260420T113522Z
UID:10000771-1932292800-1932296400@www.waorca.org
SUMMARY:Skagit Local ORC Meeting
DESCRIPTION:Skagit Local ORC Meeting \n12:00 pm   \nBurlington Library \n820 E. Washington St. \nBurlington\, WA  98233 \nPOC/RSVP- Bob Fisher bob.f@hardwaresales.net 
URL:https://www.waorca.org/event/skagit-local-orc-meeting/2031-03-26/
LOCATION:Skagit ORC Meeting\, 820 E. Washington St.\, Burlington\, 98233\, United States
END:VEVENT
BEGIN:VEVENT
DTSTART;TZID=America/Los_Angeles:20310401T100000
DTEND;TZID=America/Los_Angeles:20310401T110000
DTSTAMP:20260420T195532
CREATED:20260420T112428Z
LAST-MODIFIED:20260420T112428Z
UID:10000676-1932804000-1932807600@www.waorca.org
SUMMARY:WA AG ORC Task Force Online Meeting
DESCRIPTION:AG Online Meeting:  \n10 am \nPOC: John D. Olsen john.olsen@wsfc.wa.gov \nZOOM meeting: See email for link.
URL:https://www.waorca.org/event/wa-ag-orc-task-force-online-meeting-2/2031-04-01/
LOCATION:Zoom Online
END:VEVENT
BEGIN:VEVENT
DTSTART;TZID=America/Los_Angeles:20310409T110000
DTEND;TZID=America/Los_Angeles:20310409T110000
DTSTAMP:20260420T195532
CREATED:20250430T052002Z
LAST-MODIFIED:20260420T112629Z
UID:10000738-1933498800-1933498800@www.waorca.org
SUMMARY:Thurston County ORC Meeting
DESCRIPTION:Thurston County ORC Meeting \n10:00 am \nOlympia City Hall\, Rm 207 \n601 4th Ave E. \nOlympia\, WA 98501 \nPOC: Rebekah Ziesemer rzieseme@ci.olympia.wa.us \n  \n 
URL:https://www.waorca.org/event/thurston-county-orc-meeting-2/2031-04-09/
LOCATION:Olympia City Hall RM 207\, 601 4th Ave E.\, 98501\, United States
END:VEVENT
END:VCALENDAR